BEGIN:VCALENDAR
VERSION:2.0
PRODID:-//RelNet Technológia Kft. - ECPv5.16.4//NONSGML v1.0//EN
CALSCALE:GREGORIAN
METHOD:PUBLISH
XXXXXXXXXXXXXXXXXXXXXXXXXXXXXXXXXXXXXX
XXXXXXXXXXXXXXXXXXXXXXXXXXXXXXXXXXXXX
XXXXXXXXXXXXXXXXXXXXXXXXXXXXXXXXXXXXXXXXXXXXXXXXX
BEGIN:VTIMEZONE
TZID:Europe/Budapest
BEGIN:DAYLIGHT
TZOFFSETFROM:+0100
TZOFFSETTO:+0200
TZNAME:CEST
DTSTART:20240331T010000
END:DAYLIGHT
BEGIN:STANDARD
TZOFFSETFROM:+0200
TZOFFSETTO:+0100
TZNAME:CET
DTSTART:20241027T010000
END:STANDARD
END:VTIMEZONE
BEGIN:VEVENT
DTSTART;TZID=Europe/Budapest:20240417T150000
DTEND;TZID=Europe/Budapest:20240417T160000
DTSTAMP:20260420T033312
CREATED:20240411T083011Z
LAST-MODIFIED:20240411T083011Z
UID:33410-1713366000-1713369600@relnet.hu
SUMMARY:WALLIX Partner Connect webinárium – Harmadik nap
DESCRIPTION:A negyedévente megrendezésre kerülő WALLIX Partner Connect webinárium ezúttal napi egy előadással jelentkezik április 15-től 19-ig. 17-én\, szerdán az Ipar 4.0-ban rejlő lehetőségek kerülnek összefoglalásra. \nREGISZTRÁCIÓ\n\nIdőpont: 2024. április 17. (szerda) | 15:00-16:00 \nIpar 4.0 témák: \n\naz azonosság és a hozzáférés biztonságának erősítése\na termelőeszközökhöz való biztonságos távoli hozzáférés\na digitális átalakulást támogató biztonsági intézkedések integrálása\nzavartalan és biztonságos üzemelés az Ipar 4.0 korában\n\nElőadó: Yoann Delomier\, Business Strategy Leader for OT \nREGISZTRÁCIÓ
URL:https://relnet.hu/en/rendezveny/wallix-partner-connect-webinarium-harmadik-nap/
LOCATION:Virtual event
CATEGORIES:WALLIX,Webinárium
ATTACH;FMTTYPE=image/jpeg:https://relnet.hu/wp-content/uploads/2024/04/WalliPartnerConnect2024-min.jpg
END:VEVENT
END:VCALENDAR