BEGIN:VCALENDAR
VERSION:2.0
PRODID:-//RelNet Technológia Kft. - ECPv5.16.4//NONSGML v1.0//EN
CALSCALE:GREGORIAN
METHOD:PUBLISH
XXXXXXXXXXXXXXXXXXXXXXXXXXXXXXXXXXXXXX
XXXXXXXXXXXXXXXXXXXXXXXXXXXXXXXXXXXXX
XXXXXXXXXXXXXXXXXXXXXXXXXXXXXXXXXXXXXXXXXXXXXXXXX
BEGIN:VTIMEZONE
TZID:Europe/Budapest
BEGIN:DAYLIGHT
TZOFFSETFROM:+0100
TZOFFSETTO:+0200
TZNAME:CEST
DTSTART:20200329T010000
END:DAYLIGHT
BEGIN:STANDARD
TZOFFSETFROM:+0200
TZOFFSETTO:+0100
TZNAME:CET
DTSTART:20201025T010000
END:STANDARD
END:VTIMEZONE
BEGIN:VEVENT
DTSTART;TZID=Europe/Budapest:20200424T100000
DTEND;TZID=Europe/Budapest:20200424T130000
DTSTAMP:20260420T031137
CREATED:20200416T165857Z
LAST-MODIFIED:20200423T093525Z
UID:6015-1587722400-1587733200@relnet.hu
SUMMARY:Workshop a biztonságos távoli hozzáférésről távol ülő mérnököknek – A Stormshield SSL VPN és IPSec VPN részletes megismerése
DESCRIPTION:A workshop-ot Orosz Tamás (International Pre-Sales Engineer & Trainer\, Stormshield) tartja magyar nyelven 2020. április 24-én 10:00-13:00 óráig. \nTematika: \n10:00-10:30    Indulás\, v4.0 GUI\, újdonságok \n10:30-11:30    SSL VPN\, biztonsági szint növelése\, TGB kliens használatával \n11:30-13:00    VTI based IPSEC\, IKEv2 protokollal\, HA környezetben \n13:00-              Kérdések és válaszok \nA résztvevőket a Stormshield vendégül látja egy pizzára\, melyet a regisztrációkor megadott címre 2020. április 24-én 13:00 órára házhoz szállíttatunk. \nRegisztráljon most és ismerje meg a Stormshield biztonságos távoli hozzáférést lehetővé tevő megoldásait!
URL:https://relnet.hu/en/rendezveny/workshop-a-biztonsagos-tavoli-hozzaferesrol-tavol-ulo-mernokoknek-a-stormshield-ssl-vpn-es-ipsec-vpn-reszletes-megismerese/
LOCATION:Virtual event
CATEGORIES:Gyártó,Rendezvény,Stormshield,Végfelhasználó,Viszonteladó,Webinárium
ATTACH;FMTTYPE=image/png:https://relnet.hu/wp-content/uploads/2020/04/1-9.png
END:VEVENT
END:VCALENDAR