BEGIN:VCALENDAR
VERSION:2.0
PRODID:-//RelNet Technológia Kft. - ECPv5.16.4//NONSGML v1.0//EN
CALSCALE:GREGORIAN
METHOD:PUBLISH
XXXXXXXXXXXXXXXXXXXXXXXXXXXXXXXXXXXXXX
XXXXXXXXXXXXXXXXXXXXXXXXXXXXXXXXXXXXX
XXXXXXXXXXXXXXXXXXXXXXXXXXXXXXXXXXXXXXXXXXXXXXXXX
BEGIN:VTIMEZONE
TZID:Europe/Budapest
BEGIN:DAYLIGHT
TZOFFSETFROM:+0100
TZOFFSETTO:+0200
TZNAME:CEST
DTSTART:20230326T010000
END:DAYLIGHT
BEGIN:STANDARD
TZOFFSETFROM:+0200
TZOFFSETTO:+0100
TZNAME:CET
DTSTART:20231029T010000
END:STANDARD
END:VTIMEZONE
BEGIN:VEVENT
DTSTART;TZID=Europe/Budapest:20230424T153000
DTEND;TZID=Europe/Budapest:20230424T160000
DTSTAMP:20260420T020900
CREATED:20230414T142200Z
LAST-MODIFIED:20230928T113819Z
UID:28717-1682350200-1682352000@relnet.hu
SUMMARY:Zero Trust és DevOps: A kiberbiztonság erősítése komplex környezetekben a Progress megoldásaival
DESCRIPTION:Nézze meg a Progress 30 perces on-demand webináriumát\, hogy megtudja\, hogyan használhatja a Zero Trust megközelítést a DevOps-gyakorlatok javítására és a szervezet kiberbiztonsági helyzetének erősítésére! \nMEGNÉZEM\n\nA webinárium azt a DevOps elvet vizsgálja meg\, hogy hogyan kombinálható az ’Infrastructure as Code’ a ’Policy as Code’ megközelítéssel a biztonság automatizálása érdekében az összes felhőalapú\, on-premise és elosztott végpontokon\, ami lehetővé teszi a szervezetek számára a gyors észlelést és problémamegoldást. \nTémák: \n\nZero Trust kapcsolódása a DevOps-hoz\nVégpontbiztonság-kezelés a Zero Trust segítségével\nZero Trust orkesztráció megvalósítása a Progress Chef automatizációs platformmal
URL:https://relnet.hu/en/rendezveny/zero-trust-es-devops-a-kiberbiztonsag-erositese-komplex-kornyezetekben-a-progress-megoldasaival/2023-04-24/
LOCATION:Virtual event
CATEGORIES:Progress
ATTACH;FMTTYPE=image/jpeg:https://relnet.hu/wp-content/uploads/2023/04/DevOpsWebinarium-min.jpg
END:VEVENT
END:VCALENDAR