BEGIN:VCALENDAR
VERSION:2.0
PRODID:-//RelNet Technológia Kft. - ECPv5.16.4//NONSGML v1.0//EN
CALSCALE:GREGORIAN
METHOD:PUBLISH
XXXXXXXXXXXXXXXXXXXXXXXXXXXXXXXXXXXXXX
XXXXXXXXXXXXXXXXXXXXXXXXXXXXXXXXX
XXXXXXXXXXXXXXXXXXXXXXXXXXXXXXXXXXXXXXXXXXXXXXXXX
BEGIN:VTIMEZONE
TZID:Europe/Budapest
BEGIN:DAYLIGHT
TZOFFSETFROM:+0100
TZOFFSETTO:+0200
TZNAME:CEST
DTSTART:20190331T010000
END:DAYLIGHT
BEGIN:STANDARD
TZOFFSETFROM:+0200
TZOFFSETTO:+0100
TZNAME:CET
DTSTART:20191027T010000
END:STANDARD
END:VTIMEZONE
BEGIN:VEVENT
DTSTART;TZID=Europe/Budapest:20190620T080000
DTEND;TZID=Europe/Budapest:20190620T160000
DTSTAMP:20260420T005326
CREATED:20190605T144825Z
LAST-MODIFIED:20200114T121231Z
UID:2549-1561017600-1561046400@relnet.hu
SUMMARY:2019. június 20-án Juniper Networks Sales & Technical Security Workshopot tartunk a RelNetnél
DESCRIPTION:A Juniper Networks több technológiai szegmensben is úttörő\, ennek megfelelően folyamatosan fejleszti az IT biztonsági megoldásait is\, hogy a lehető legmagasabb szintű védelmet nyújtsa a fenyegetésekkel szemben. Különös figyelmet fordít a felderítésre és az elhárításra\, és az ezekhez szorosan kapcsolódó biztonsági elemzésekre. \nAz IT biztonsági workshop előadója Michael Berkovitch (Cyber Security Sales & Partner Sales Leader\, EMEA\, Juniper) és Jaume Baltasar Galiana (Security Partner Systems Engineer\, EMEA\, Juniper). \nAz egész napos esemény egy kereskedelmi és egy technikai részből áll. \nAz értékesítést segítő részben megismerhető: \n\na Juniper javaslata a vállalati felhő átalakítására\, és hogy\nhogyan forradalmasítja az IT biztonsági műveleteket SoC automatizálással\, amely enyhíti a szakemberhiány okozta problémákat is.\n\nA technikai részben a következő témákról lesz szó: \n\na SecOps egyszerűsítése a Juniper Networks Connected Security Platform segítségével és a nyitott integrációs stratégiával\,\nantimalware mindenhol – élő bemutató a Juniper Networks legújabb fejlett fenyegetésmegelőzési platformjáról a JATP-ről\,\na Juniper Networks biztonsági elképzelése a többfelhős infrastruktúráról és arról\, hogyan lehet egységesíteni az IT biztonsági megoldásokat több területen keresztül\, mint például a Campus\, a privát felhős adatközpont és a publikus felhő esetén\,\nnagyvállalati felhasználási esetek a menedzsment és a következő generációs fióktelep kapcsolatok számára.\n\n\n\nViszonteladóinknak ingyenes részvételi lehetőséget biztosítunk\, amihez előzetes regisztráció szükséges!\nA férőhelyek száma korlátozott\, a regisztrációt a jelentkezés sorrendjében tudjuk elfogadni! \nAz előadások angol nyelvűek. \nA workshop 8:00-tól 16:00-ig tart.\nIdőpont: 2019. június 20.\nHelyszín: Az oktatás helyszíne a RelNet oktatóterme.\nCím: 1047 Budapest\, Váci út 71. – Az épület és az udvar bejárata is a Perényi Zsigmond utcáról nyílik.\nParkolás: Díjmentes a belső udvaron és a környező utcákban is. \nGyere el és ismerd meg a Juniper Networks IT biztonsági stratégiáját! \nAz eseményre a gyártó és a RelNet oldalán is lehet regisztrálni. \nA RelNet oldalán bejelentkezve az oldal tetején tud regisztrálni.\nA Juniper regisztrációs oldalán partner regisztráció/bejelentkezés után a lenti Regisztrációs gombra kattintva tud jelentkezni. \nJelentkezz most! \nREGISZTRÁCIÓ\n\n\n \nKapcsolódó hír: \nA Juniper Networks érte el a legnagyobb növekedést az IT biztonsági gyártók közül \n\n\nWORKSHOP AGENDA \n08:00 – 09:00    Registration  \n            Sales Track \n09:00 – 09:30    Security Exec Overview \n\nCybersecurity and the evolving Threat Landscape\nThe Juniper Security Vision\nPreparing for a Secure & Multicloud Future\n\n09:30 – 10:30    Juniper Security Portfolio for Sales – Key Products and Positioning \n\nNext-Gen Firewall and Unified Threat Management\nAdvanced Malware Detection\, Prevention and Response\nPutting it all together – Automation\nSales Opportunities and Tools\n\n10:30 – 10:45    Break \n            Technical Track \n10:45 – 11:45    Simplifying Security Operations \n\nThe customer perspective\nSecurity Orchestration\, Automation and Response workflow\nSimplifying security management (Security Director)\nDemo: How can Connected Security Platform help?\n\n11:45-12:30       Threat Analytics \n\nCurrent threat landscape overview\nAdvanced threat prevention with JATP & SkyATP\nAnti-malware use-cases & BOM building – real world scenarios\n\n12:30-13:15       Break \n13:15-13:45       Threat Analytics (cont.) \n\nThe role of the SIEM – Juniper Secure Analytics\nDemo: JATP in action!\n\n13:45-14:45       Multi-cloud Security \n\nCloud security Essentials\nWhat is Intent-based policy?\nContrail security revealed – it’s all related!\nDemo: Why does micro-segmentation matter?\n\n14:45-15:00        Break \n15:00-15:30        Security Roadmap \n15:30 – 16:00    Wrap-up / Q&A
URL:https://relnet.hu/rendezveny/2019-junius-20-an-juniper-networks-sales-technical-security-workshopot-tartunk-a-relnetnel/
LOCATION:RelNet konferencia terem\, Váci út 71.\, Budapest\, 1047\, Magyarország
CATEGORIES:Gyártó,JATP,Juniper Networks,Oktatás,RelNet,Rendezvény,Viszonteladó
ATTACH;FMTTYPE=image/png:https://relnet.hu/wp-content/uploads/2019/06/SalesTechWorkshop.png
GEO:47.572774139773;19.081058942328
X-APPLE-STRUCTURED-LOCATION;VALUE=URI;X-ADDRESS=RelNet konferencia terem Váci út 71. Budapest 1047 Magyarország;X-APPLE-RADIUS=500;X-TITLE=Váci út 71.:geo:19.081058942328,47.572774139773
END:VEVENT
END:VCALENDAR