BEGIN:VCALENDAR
VERSION:2.0
PRODID:-//RelNet Technológia Kft. - ECPv5.16.4//NONSGML v1.0//EN
CALSCALE:GREGORIAN
METHOD:PUBLISH
XXXXXXXXXXXXXXXXXXXXXXXXXXXXXXXXXXXXXX
XXXXXXXXXXXXXXXXXXXXXXXXXXXXXXXXX
XXXXXXXXXXXXXXXXXXXXXXXXXXXXXXXXXXXXXXXXXXXXXXXXX
BEGIN:VTIMEZONE
TZID:Europe/Budapest
BEGIN:DAYLIGHT
TZOFFSETFROM:+0100
TZOFFSETTO:+0200
TZNAME:CEST
DTSTART:20190331T010000
END:DAYLIGHT
BEGIN:STANDARD
TZOFFSETFROM:+0200
TZOFFSETTO:+0100
TZNAME:CET
DTSTART:20191027T010000
END:STANDARD
END:VTIMEZONE
BEGIN:VEVENT
DTSTART;TZID=Europe/Budapest:20190912T083000
DTEND;TZID=Europe/Budapest:20190912T133000
DTSTAMP:20260419T230848
CREATED:20190709T125317Z
LAST-MODIFIED:20200114T093521Z
UID:3169-1568277000-1568295000@relnet.hu
SUMMARY:2019. szeptember 12-én Panda workshopot tartunk
DESCRIPTION:Ismerje meg a Panda Security termékeit\, és ismerje meg az egyedülálló megoldást\, amely segít a GDPR okozta nehézségek megoldásában is! \nPanda Security megoldásai egy tesztkörnyezet segítségével lesznek bemutatva\, kezdve a végpontvédelemmel\, majd áttérve a végponti SIEM valamint GDPR moduljára. Ismerd meg azokat a tulajdonságokat\, ami miatt a Panda Security több mint hagyományos végpontvédelem. \nA Data Control modul nagy segítséget jelent a GDPR követelményeinek való megfeleléshez. A modul segítségével néhány gombnyomással meg lehet valósítani a folyamatos adatleltárt\, az egyszerű keresést a különböző adatbázisokban\, a riasztások\, monitorozások és fájlműveleti információk állandó szem előtt tartása mellett. Nézze meg\, hogyan történik a telepítés\, és hogy milyen beállítási lehetőségek vannak\, illetve azok közül általában melyek használatát javasolják a tapasztalatok alapján\, így a Panda Security workshop során jól használható tudás elsajátítására lesz lehetősége a partnereinknek. \nA Panda workshopot Bardócz Gyula a Panda kereskedelmi vezetője tartja. \nTematika: \n8:30-9:00   Érkezés\, regisztráció \n9:00-9:30 A Panda portfólió ismertetése \n9:30-10:00 A Panda Adaptive Defense (EDR) védelmének áttekintése \n10:00-10:20 Szünet \n10:20-10:50 Az Advanced Reporting Tool (végponti SIEM) modul \n10:50-11:30 A Data Control (GDPR) moduljának részletes bemutatása \n11:30-12:00 Esettanulmányok \n12:00-12:40 Szünet \n12:40-13:00 Panda Patch Management és Full Encryption modulok bemutatása \n13:00-13:20 Kérdések és válaszok \nJöjjön el Ön is! Regisztráljon most! \nViszonteladóinknak ingyenes részvételi lehetőséget biztosítunk\, amihez előzetes regisztráció szükséges! A férőhelyek száma korlátozott\, a regisztrációt a jelentkezés sorrendjében tudjuk elfogadni!\nAz előadások magyar nyelvűek. \nA workshop 8:30-től 13:20-ig tart. \nIdőpont: 2019. szeptember 12.\nHelyszín: Az oktatás helyszíne a RelNet oktatóterme \nCím: 1047 Budapest\, Váci út 71. – Az épület és az udvar bejárata is a Perényi Zsigmond utcáról nyílik\nParkolás: Díjmentes a belső udvaron és a környező utcákban is.
URL:https://relnet.hu/rendezveny/2019-szeptember-12-en-panda-workshopot-tartunk/
LOCATION:RelNet konferencia terem\, Váci út 71.\, Budapest\, 1047\, Magyarország
CATEGORIES:Panda Security,RelNet,Rendezvény,Végfelhasználó,Viszonteladó
ATTACH;FMTTYPE=image/png:https://relnet.hu/wp-content/uploads/2019/07/GDPR12.png
GEO:47.572774139773;19.081058942328
X-APPLE-STRUCTURED-LOCATION;VALUE=URI;X-ADDRESS=RelNet konferencia terem Váci út 71. Budapest 1047 Magyarország;X-APPLE-RADIUS=500;X-TITLE=Váci út 71.:geo:19.081058942328,47.572774139773
END:VEVENT
END:VCALENDAR