BEGIN:VCALENDAR
VERSION:2.0
PRODID:-//RelNet Technológia Kft. - ECPv5.16.4//NONSGML v1.0//EN
CALSCALE:GREGORIAN
METHOD:PUBLISH
XXXXXXXXXXXXXXXXXXXXXXXXXXXXXXXXXXXXXX
XXXXXXXXXXXXXXXXXXXXXXXXXXXXXXXXX
XXXXXXXXXXXXXXXXXXXXXXXXXXXXXXXXXXXXXXXXXXXXXXXXX
BEGIN:VTIMEZONE
TZID:Europe/Budapest
BEGIN:DAYLIGHT
TZOFFSETFROM:+0100
TZOFFSETTO:+0200
TZNAME:CEST
DTSTART:20200329T010000
END:DAYLIGHT
BEGIN:STANDARD
TZOFFSETFROM:+0200
TZOFFSETTO:+0100
TZNAME:CET
DTSTART:20201025T010000
END:STANDARD
END:VTIMEZONE
BEGIN:VEVENT
DTSTART;TZID=Europe/Budapest:20200415T200000
DTEND;TZID=Europe/Budapest:20200415T210000
DTSTAMP:20260419T220436
CREATED:20200406T144247Z
LAST-MODIFIED:20200529T180855Z
UID:5669-1586980800-1586984400@relnet.hu
SUMMARY:8 részes webinárium-sorozatot indít a Transition Networks
DESCRIPTION:8 részes webinárium-sorozatot indít a Transition Networks 2020. április 15. – június 3. között minden szerdán 20:00 órától. \nA Transition Networks szakértői a hálózatépítés alapjaitól az ipari PoE hálózatokon át az okos épületek és városok témaköréig a hálózat fejlesztését célzó stratégiákkal és megoldásokkal foglalkoznak. \nKapcsolódjon be a saját kanapéján ülve! \n\n\n\nDátum\nElőadás\n\n\n\nRögzített webinárium \n\n\nSimplifying Networking (Even for Sales!): Building Networks from the Ground Up \n\n\nMEGNÉZEM\n\n\n\n\n\nRögzített webinárium \n\n\nCutting Costs & Increasing Revenue with Intuitive DMS \n\n\nMEGNÉZEM\n\n\n\n\n\nRögzített webinárium \n\n\nGoing the Distance: Building PoE Networks Over Any Cable \n\n\nMEGNÉZEM\n\n\n\n\n\nRögzített webinárium \n\n\nIndustrial PoE Networking: Bringing Intelligence Into Any Outdoor Environment \n\n\nMEGNÉZEM\n \n\n\n\n\nRögzített webinárium \n\n\nUsing Alternative Power in Physical Security Networks \n\n\nMEGNÉZEM\n\n\n\n\n\n2020. május 20. \n\n\nMaking Traffic Systems Intelligent: Why NYCDOT chose Transition Networks \n\n\nMEGNÉZEM\n\n\n\n\n\n2020. május 27. \n\n\nBending Light: Maximizing your Fiber Connections with CWDM \n\n\nMEGNÉZEM\n\n\n\n\n\n2020. június 3. \n\n\nHow to Make Your Smart Building Smarter: PoE++ Lighting & Sensors \n\n\nREGISZTRÁCIÓ\n\n\n\n\n\nRegisztráljon most!
URL:https://relnet.hu/rendezveny/8-reszes-webinarium-sorozatot-indit-a-transition-networks/2020-04-15/
CATEGORIES:Gyártó,Oktatás,Transition Networks,Viszonteladó,Webinárium
ATTACH;FMTTYPE=image/png:https://relnet.hu/wp-content/uploads/2020/04/2-3.png
END:VEVENT
END:VCALENDAR