BEGIN:VCALENDAR
VERSION:2.0
PRODID:-//RelNet Technológia Kft. - ECPv5.16.4//NONSGML v1.0//EN
CALSCALE:GREGORIAN
METHOD:PUBLISH
XXXXXXXXXXXXXXXXXXXXXXXXXXXXXXXXXXXXXX
XXXXXXXXXXXXXXXXXXXXXXXXXXXXXXXXX
XXXXXXXXXXXXXXXXXXXXXXXXXXXXXXXXXXXXXXXXXXXXXXXXX
BEGIN:VTIMEZONE
TZID:Europe/Budapest
BEGIN:DAYLIGHT
TZOFFSETFROM:+0100
TZOFFSETTO:+0200
TZNAME:CEST
DTSTART:20230326T010000
END:DAYLIGHT
BEGIN:STANDARD
TZOFFSETFROM:+0200
TZOFFSETTO:+0100
TZNAME:CET
DTSTART:20231029T010000
END:STANDARD
END:VTIMEZONE
BEGIN:VEVENT
DTSTART;TZID=Europe/Budapest:20230928T180000
DTEND;TZID=Europe/Budapest:20230928T190000
DTSTAMP:20260425T195633
CREATED:20230926T132109Z
LAST-MODIFIED:20230926T151356Z
UID:30903-1695924000-1695927600@relnet.hu
SUMMARY:A dedikált SQL Poolok gyakori problémáinak elhárítása
DESCRIPTION:Regisztráljon a SolarWinds webináriumára\, hogy megismerje és el tudja hárítani a dedikált SQL Poolok gyakori teljesítményproblémáit az Azure Synapse-ban. \nREGISZTRÁCIÓ\n\nElőadó: Steve Wright\, Senior Solutions Architect\, SolarWinds \nIdőpont: 2023. szeptember 28. (csütörtök) | 18:00 – 19:00 \nTémák: \n\nMPP-architektúra és a Dedicated SQL Pools kulcsfontosságú összetevői; hibaelhárítási irányelvek\nA teljesítménybeli problémák azonosításának módja és a gyakori szűk keresztmetszetek felfedezése\, amelyek akadályozhatják az Azure Synapse Dedicated SQL Pools hatékonyságát; megoldási lehetőségek\nAdattárház (data warehousing) alapok a Microsoft Fabricban\, ezek átültetése a Microsoft legújabb analitikai platformjába\nKérdések és válaszok a Dedicated SQL Pools optimális teljesítményével kapcsolatban\n\n 
URL:https://relnet.hu/rendezveny/a-dedikalt-sql-poolok-gyakori-problemainak-elharitasa/
LOCATION:Virtuális rendezvény
CATEGORIES:SolarWinds,Webinárium
ATTACH;FMTTYPE=image/png:https://relnet.hu/wp-content/uploads/2023/09/SolarWinds_Webcast-min.png
END:VEVENT
END:VCALENDAR