BEGIN:VCALENDAR
VERSION:2.0
PRODID:-//RelNet Technológia Kft. - ECPv5.16.4//NONSGML v1.0//EN
CALSCALE:GREGORIAN
METHOD:PUBLISH
XXXXXXXXXXXXXXXXXXXXXXXXXXXXXXXXXXXXXX
XXXXXXXXXXXXXXXXXXXXXXXXXXXXXXXXX
XXXXXXXXXXXXXXXXXXXXXXXXXXXXXXXXXXXXXXXXXXXXXXXXX
BEGIN:VTIMEZONE
TZID:Europe/Budapest
BEGIN:DAYLIGHT
TZOFFSETFROM:+0100
TZOFFSETTO:+0200
TZNAME:CEST
DTSTART:20210328T010000
END:DAYLIGHT
BEGIN:STANDARD
TZOFFSETFROM:+0200
TZOFFSETTO:+0100
TZNAME:CET
DTSTART:20211031T010000
END:STANDARD
END:VTIMEZONE
BEGIN:VEVENT
DTSTART;TZID=Europe/Budapest:20210623T100000
DTEND;TZID=Europe/Budapest:20210623T104500
DTSTAMP:20260420T005524
CREATED:20210618T093456Z
LAST-MODIFIED:20210618T115904Z
UID:15899-1624442400-1624445100@relnet.hu
SUMMARY:A legújabb DDoS fenyegetések és a bevált védekezési gyakorlatok - adatközpontok védelme
DESCRIPTION:A kiberbűnözők egyre hatékonyabb DDoS technikákat fejlesztenek ki a hálózatok és az alkalmazások ellen. Ilyen fejlett módszerek a titkosított DDoS támadások\, a szőnyegbombázás\, a löketszerű (burst) támadások\, amelyek ellen az eddigieknél kifinomultabb védekezési mechanizmusokkal kell fellépni. \nIsmerje meg a legújabb DDoS fenyegetéseket és a bevált védekezési gyakorlatokat\, tegye fel kérdéseit a Radware szakértőinek az adatközpontok védelméről! \nTémák:\n• A DDoS támadások új formái\n• A védekezési módszerek fejlődési iránya az újfajta támadások kivédése érdekében\n• Az adatközpontok teljeskörű megvédésének szempontjai és stratégiái \nElőadó: Eva Abergel\, Radware szakértő \nRegisztrálni akkor is érdemes\, ha az élő webináriumon nem tud részt venni\, mert a regisztráltak megkapják a webinárium rögzített videójának linkjét\, így utólag is megtekinthetik az előadást. \nJelentkezzen most!\n\n\nBest Practices to Secure Data Centers from Rising DDoS Threats\nÉlő webinárium\n2021.06.23. 10:00 – 10:45 CEST \nREGISZTRÁCIÓ
URL:https://relnet.hu/rendezveny/a-legujabb-ddos-fenyegetesek-es-a-bevalt-vedekezesi-gyakorlatok-adatkozpontok-vedelme/
LOCATION:Virtuális rendezvény
CATEGORIES:Radware
ATTACH;FMTTYPE=image/jpeg:https://relnet.hu/wp-content/uploads/2021/06/Webinar-Head-min.jpg
END:VEVENT
END:VCALENDAR