BEGIN:VCALENDAR
VERSION:2.0
PRODID:-//RelNet Technológia Kft. - ECPv5.16.4//NONSGML v1.0//EN
CALSCALE:GREGORIAN
METHOD:PUBLISH
XXXXXXXXXXXXXXXXXXXXXXXXXXXXXXXXXXXXXX
XXXXXXXXXXXXXXXXXXXXXXXXXXXXXXXXX
XXXXXXXXXXXXXXXXXXXXXXXXXXXXXXXXXXXXXXXXXXXXXXXXX
BEGIN:VTIMEZONE
TZID:Europe/Budapest
BEGIN:DAYLIGHT
TZOFFSETFROM:+0100
TZOFFSETTO:+0200
TZNAME:CEST
DTSTART:20200329T010000
END:DAYLIGHT
BEGIN:STANDARD
TZOFFSETFROM:+0200
TZOFFSETTO:+0100
TZNAME:CET
DTSTART:20201025T010000
END:STANDARD
END:VTIMEZONE
BEGIN:VEVENT
DTSTART;TZID=Europe/Budapest:20201110T093000
DTEND;TZID=Europe/Budapest:20201110T103000
DTSTAMP:20260419T230905
CREATED:20201104T163256Z
LAST-MODIFIED:20201109T091258Z
UID:10458-1605000600-1605004200@relnet.hu
SUMMARY:A Radware DDoS támadások elleni védelmének technikai bemutatója
DESCRIPTION:A DDoS támadások elleni védelem\, megelőzés és egy támadás hatásainak a mérséklése még soha nem volt kritikusabb\, mint manapság. \nA számítógépes támadások a szervezetek életének a részévé váltak világszerte. A Radware kutatásai szerint világszerte a szervezetek 98 százaléka számolt be kibertámadásról. A nagy és a kis szervezetek számára egyaránt nehéz a hatékony védelem kialakítása ugyanakkor potenciálisan nagyon költséges a DDoS-támadások okozta webhely- és hálózati kiesés\, valamint az adatvesztés. \nA mély technikai részeket tartalmazó webináriumon Lior Zamir\, a Radware Technical Account Manager-e élő bemutatót tart a Radware megoldásáról. \nJelentkezzen most!\n\n\nDDoS védelmi technikai bemutató\nÉlő webinárium\n2020. november 10. 9:30-10:30 \nKapcsolódó esemény:\n2020. november 17. 9:30-10:30 Radware WAF technikai bemutató \n2020. november 24. 9:30-10:30 Radware Bot Manager technikai bemutató \nKapcsolódó képzés:\nRadware: A Radware története és megoldásai \nRadware: DDoS védelem a DefensePro-val \nRelNetik – Elosztott szolgáltatásmegtagadási támadások (DDoS) \nKapcsolódó tartalom:\nRadware Defense Pro adatlap \nKapcsolódó videók:\n \n \n 
URL:https://relnet.hu/rendezveny/a-radware-ddos-tamadasok-elleni-vedelmenek-technikai-bemutatoja/
LOCATION:Virtuális rendezvény
CATEGORIES:Radware,Végfelhasználó,Viszonteladó
ATTACH;FMTTYPE=image/png:https://relnet.hu/wp-content/uploads/2020/11/2-min.png
END:VEVENT
END:VCALENDAR