BEGIN:VCALENDAR
VERSION:2.0
PRODID:-//RelNet Technológia Kft. - ECPv5.16.4//NONSGML v1.0//EN
CALSCALE:GREGORIAN
METHOD:PUBLISH
XXXXXXXXXXXXXXXXXXXXXXXXXXXXXXXXXXXXXX
XXXXXXXXXXXXXXXXXXXXXXXXXXXXXXXXX
XXXXXXXXXXXXXXXXXXXXXXXXXXXXXXXXXXXXXXXXXXXXXXXXX
BEGIN:VTIMEZONE
TZID:Europe/Budapest
BEGIN:DAYLIGHT
TZOFFSETFROM:+0100
TZOFFSETTO:+0200
TZNAME:CEST
DTSTART:20220327T010000
END:DAYLIGHT
BEGIN:STANDARD
TZOFFSETFROM:+0200
TZOFFSETTO:+0100
TZNAME:CET
DTSTART:20221030T010000
END:STANDARD
END:VTIMEZONE
BEGIN:VEVENT
DTSTART;TZID=Europe/Budapest:20220427T100000
DTEND;TZID=Europe/Budapest:20220427T110000
DTSTAMP:20260420T043229
CREATED:20220421T094800Z
LAST-MODIFIED:20220421T094800Z
UID:21750-1651053600-1651057200@relnet.hu
SUMMARY:A ransomware támadás anatómiája – valós idejű szimulációval
DESCRIPTION:A bizonytalan idők\, amivel a világnak jelenleg is szembe kell néznie\, új szintre emelték a biztonsági kockázatokat\, amelyek miatt a menedzselt szolgáltatóknak (MSP-k) újra kell gondolniuk védelmi rendszerüket.  Sok cégtulajdonosnak nincs ideje és erőforrása arra\, hogy saját maga foglalkozzon a kiberbiztonsági kérdésekkel\, ezért fordul inkább az IT-szolgáltatókhoz. Ez pedig még nagyobb kihívást és felelősséget jelent az MSP-k számára\, hogy ne csak a saját kockázataikat\, hanem az ügyfeleik kiberfenyegetéseit is kezeljék. \nNapjaink egyik leggyakoribb és egyben legköltségesebb kiberfenyegetése a ransomware\, azaz a zsarolóprogramok. Az egyetlen módja annak\, hogy robusztus védelmet építsünk ki ellenük\, ha alaposan megismerjük működésüket. \nVegyen részt az Acronis webináriumon 2022. április 27-én (szerdán) 10.00 órakor (CEST). \nCandid Wuest\, az Acronis kibervédelmi kutatásért felelős alelnök bemutatja: \n– mennyire könnyű a támadóknak zsarolóvírus-csomagot összeállítaniuk; \n– egy zsarolóvírus-csomag szimulált kézbesítését; \n– hogyan lehet a korai észleléssel\, a mesterséges intelligenciával és az automatizált válaszlépésekkel megállítani a támadást. \nCsatlakozzon a webináriumhoz\, és tudja meg\, hogyan védheti meg magát és ügyfeleit a modern világ leggyakoribb kiberfenyegetésétől. \nREGISZTRÁCIÓ
URL:https://relnet.hu/rendezveny/a-ransomware-tamadas-anatomiaja-valos-ideju-szimulacioval/
LOCATION:Virtuális rendezvény
CATEGORIES:Acronis,Webinárium
ATTACH;FMTTYPE=image/png:https://relnet.hu/wp-content/uploads/2022/04/Acronis_Ransomeware-min.png
END:VEVENT
END:VCALENDAR