BEGIN:VCALENDAR
VERSION:2.0
PRODID:-//RelNet Technológia Kft. - ECPv5.16.4//NONSGML v1.0//EN
CALSCALE:GREGORIAN
METHOD:PUBLISH
XXXXXXXXXXXXXXXXXXXXXXXXXXXXXXXXXXXXXX
XXXXXXXXXXXXXXXXXXXXXXXXXXXXXXXXX
XXXXXXXXXXXXXXXXXXXXXXXXXXXXXXXXXXXXXXXXXXXXXXXXX
BEGIN:VTIMEZONE
TZID:Europe/Budapest
BEGIN:DAYLIGHT
TZOFFSETFROM:+0100
TZOFFSETTO:+0200
TZNAME:CEST
DTSTART:20240331T010000
END:DAYLIGHT
BEGIN:STANDARD
TZOFFSETFROM:+0200
TZOFFSETTO:+0100
TZNAME:CET
DTSTART:20241027T010000
END:STANDARD
END:VTIMEZONE
BEGIN:VEVENT
DTSTART;TZID=Europe/Budapest:20241120T110000
DTEND;TZID=Europe/Budapest:20241120T120000
DTSTAMP:20260423T022941
CREATED:20241114T093729Z
LAST-MODIFIED:20241119T153701Z
UID:35798-1732100400-1732104000@relnet.hu
SUMMARY:A sérülékenység-menedzsment fázisai - Priorizálás
DESCRIPTION:Regisztráljon a Skybox Security partnerek számára megtartásra kerülő technikai workshopjára\, amely a sérülékenységmenedzsment életciklusának keretein belül ezúttal a sérülékenységek priorizálását veszi sorra! \nREGISZTRÁCIÓ\n\nIdőpont: 2024. november 20. (szerda) | 11:00 \nA partnereknek szóló technikai workshop célja bemutatni\, hogyan építhető ki egy szervezetben a modern sérülékenység- és fenyegetéskezelési program. Ezúttal a sérülékenységek elhárításának a priorizálása kerül fókuszba úgy\, hogy az megfeleljen a szervezetek egyedi igényeinek és kockázati profiljuknak. \nA Skybox Security segít rangsorolni a legnagyobb kockázatot jelentő fenyegetéseket azáltal\, hogy a hagyományos CVSS-pontszámokon túlmutatva azokra a sérülékenységekre összpontosít – a támadási útvonalak és a kritikus eszközök elemzésével –\, amelyek a legnagyobb valószínűséggel árthatnak az üzletmenetnek. \nTémák: \n\nMűszerfalak áttekintése\, amelyek segítenek a sérülékenységek rangsorolásában\nPriorizálási modulok áttekintése a hatékonyabb védekezési döntések meghozatala érdekében\n\nElőadó: Nilesh Bharakhada\, Technical Director of Worldwide Channels\, Skybox Security
URL:https://relnet.hu/rendezveny/a-serulekenysegmenedzsment-fazisai-priorizalas/
LOCATION:Virtuális rendezvény
CATEGORIES:Skybox Security,Viszonteladó,Webinárium
ATTACH;FMTTYPE=image/jpeg:https://relnet.hu/wp-content/uploads/2024/11/SkyboxSerulekenysegPriolizalas-min.jpg
END:VEVENT
END:VCALENDAR