BEGIN:VCALENDAR
VERSION:2.0
PRODID:-//RelNet Technológia Kft. - ECPv5.16.4//NONSGML v1.0//EN
CALSCALE:GREGORIAN
METHOD:PUBLISH
XXXXXXXXXXXXXXXXXXXXXXXXXXXXXXXXXXXXXX
XXXXXXXXXXXXXXXXXXXXXXXXXXXXXXXXX
XXXXXXXXXXXXXXXXXXXXXXXXXXXXXXXXXXXXXXXXXXXXXXXXX
BEGIN:VTIMEZONE
TZID:Europe/Budapest
BEGIN:DAYLIGHT
TZOFFSETFROM:+0100
TZOFFSETTO:+0200
TZNAME:CEST
DTSTART:20190331T010000
END:DAYLIGHT
BEGIN:STANDARD
TZOFFSETFROM:+0200
TZOFFSETTO:+0100
TZNAME:CET
DTSTART:20191027T010000
END:STANDARD
END:VTIMEZONE
BEGIN:VEVENT
DTSTART;TZID=Europe/Budapest:20190619T103000
DTEND;TZID=Europe/Budapest:20190619T113000
DTSTAMP:20260420T005408
CREATED:20190607T080538Z
LAST-MODIFIED:20190607T124556Z
UID:2620-1560940200-1560943800@relnet.hu
SUMMARY:A Skybox v10 Technikai  Webinárium
DESCRIPTION:Ma a komplexitás az egyik legnagyobb kihívás a nagyvállalati kiberbiztonságban. A Skybox® Security legújabb verziója olyan megoldást kínál\, amellyel a zaj csökkenthető és a legfontosabb műveletekre lehet koncentrálni. \nIsmerje meg az új\, erős\, funkciógazdag Skybox verzió új funkcióit\, nézze meg az élő bemutatót!   \nA 10-es verzió három kiemelkedő újdonsága: \nA sérülékenység kezelés egyszerűsítése: Az egyszerű és rugalmas kockázatértékelés lehetővé teszi a szervezetek számára\, hogy nyomon kövessék a kockázatcsökkentő intézkedéseket\, és gyorsan megértsék\, hogyan érdemes megcélozniuk a legnagyobb kockázati források kármentesítését. \nBetekintés a kritikus kockázati forrásokba: A felhasználói élmény és a webes alkalmazás képességeinek továbbfejlesztése segíti a felhasználókat abban\, hogy gyorsabban tudják azonosítani a kockázatokat\, és könnyen ráérezzenek arra\, hogy mely kockázatokat kell először kezelni. \n„Központi igazságforrás” (Single Source of Truth) létrehozása: A hibrid környezetben található megoldások folyamatosan bővülő\, API-n keresztüli integrációja lehetővé teszi az IT biztonsági és a működési adatok központosított kezelését. Ennek eredményeként a szigetszerűen elkülönült alkalmazások közötti határok megszűnnek és lehetőség nyílik az adatok közötti összefüggések vizsgálatára. \nA regisztrálók hozzáférést kapnak a prezentáció felvételéhez. Az élő webinárium végén a résztvevők kérdéseket tehetnek fel az előadónak. \nRegisztráljon még ma! \n\n\nSkybox v10 Technical Launch (Technical deep-dive webinar for resellers)\n2019. június 19.\, szerda 10:30 AM CEST\nElőadó: Tomer Yanovich\, Skybox Product Management Director and Eran Kovalsky\, Skybox SPM Product Line Manager \nREGISZTRÁCIÓ\n\n\n\nKapcsolódó webináriumok: \nSkybox v10 Launch (Sales webinar for resellers)\n2019. június 12.\, szerda 10:30 AM CEST\nElőadó: Sean Keef\, a Skybox Security\, Inc. termék marketing igazgatója \nEasy Does It: Simplifying Cyber Risk Management with Skybox v10 (Customer webinar)\n2019. június 26.\, szerda 11:00 AM CEST\nElőadó: Sean Keef\, a Skybox Security\, Inc. termék marketing igazgatója
URL:https://relnet.hu/rendezveny/a-skybox-v10-launch-technical-deep-dive-webinar-for-resellers/
CATEGORIES:Gyártó,Oktatás,Skybox Security,Viszonteladó,Webinárium
ATTACH;FMTTYPE=image/png:https://relnet.hu/wp-content/uploads/2019/06/Skybox-webinar.png
END:VEVENT
END:VCALENDAR