BEGIN:VCALENDAR
VERSION:2.0
PRODID:-//RelNet Technológia Kft. - ECPv5.16.4//NONSGML v1.0//EN
CALSCALE:GREGORIAN
METHOD:PUBLISH
XXXXXXXXXXXXXXXXXXXXXXXXXXXXXXXXXXXXXX
XXXXXXXXXXXXXXXXXXXXXXXXXXXXXXXXX
XXXXXXXXXXXXXXXXXXXXXXXXXXXXXXXXXXXXXXXXXXXXXXXXX
BEGIN:VTIMEZONE
TZID:Europe/Budapest
BEGIN:DAYLIGHT
TZOFFSETFROM:+0100
TZOFFSETTO:+0200
TZNAME:CEST
DTSTART:20190331T010000
END:DAYLIGHT
BEGIN:STANDARD
TZOFFSETFROM:+0200
TZOFFSETTO:+0100
TZNAME:CET
DTSTART:20191027T010000
END:STANDARD
BEGIN:DAYLIGHT
TZOFFSETFROM:+0100
TZOFFSETTO:+0200
TZNAME:CEST
DTSTART:20200329T010000
END:DAYLIGHT
BEGIN:STANDARD
TZOFFSETFROM:+0200
TZOFFSETTO:+0100
TZNAME:CET
DTSTART:20201025T010000
END:STANDARD
END:VTIMEZONE
BEGIN:VEVENT
DTSTART;TZID=Europe/Budapest:20190801T080000
DTEND;TZID=Europe/Budapest:20200120T170000
DTSTAMP:20260420T020856
CREATED:20190704T143458Z
LAST-MODIFIED:20200121T102153Z
UID:3114-1564646400-1579539600@relnet.hu
SUMMARY:A szerződéses partnerek hozzáférésének evolúciója - négy felhasználási eset
DESCRIPTION:Az SSH és az Ubisecure közös webináriumán viszonyítási alapot kaphat hogyan kezelik az iparági vezetők a harmadik fél hozzáférését és identitásait!\nIratkozzon fel most az SSH és az Ubisecure közös bemutatójára és hallgassa meg\, amikor Önnek a legmegfelelőbb az igény szerinti webináriumot.\n \nManapság a szerződéses partnerek folyamatos hozzáféréssel rendelkeznek a kritikus adatokhoz. Az Ön privilegizált hozzáférési életciklusa egyszerűsített\, ellenőrzött és biztonságos a felhő korszakában?\n \nA webinárium négy felhasználási esetet mutat meg.\nAz Ubisecure és az SSH.COM megvitatják\, hogyan változtatta meg a felhőbe költözés a kritikus hozzáférés szabályait.\n \n\n\nIsmerje meg\, hogyan kell biztonságosan és költséghatékonyan kezelni a kritikus rendszerek és adatok ideiglenes hozzáférését. \nJelentkezzen már most!\n \nThe evolution of 3rd party access – four use cases\nOn-demand webinar\n \nREGISZTRÁCIÓ
URL:https://relnet.hu/rendezveny/a-szerzodeses-partnerek-hozzaferesenek-evolucioja-negy-felhasznalasi-eset/
CATEGORIES:Gyártó,SSH,Végfelhasználó,Viszonteladó,Webinárium
ATTACH;FMTTYPE=image/png:https://relnet.hu/wp-content/uploads/2019/07/SSH_webinar.png
END:VEVENT
END:VCALENDAR