BEGIN:VCALENDAR
VERSION:2.0
PRODID:-//RelNet Technológia Kft. - ECPv5.16.4//NONSGML v1.0//EN
CALSCALE:GREGORIAN
METHOD:PUBLISH
XXXXXXXXXXXXXXXXXXXXXXXXXXXXXXXXXXXXXX
XXXXXXXXXXXXXXXXXXXXXXXXXXXXXXXXX
XXXXXXXXXXXXXXXXXXXXXXXXXXXXXXXXXXXXXXXXXXXXXXXXX
BEGIN:VTIMEZONE
TZID:Europe/Budapest
BEGIN:DAYLIGHT
TZOFFSETFROM:+0100
TZOFFSETTO:+0200
TZNAME:CEST
DTSTART:20250330T010000
END:DAYLIGHT
BEGIN:STANDARD
TZOFFSETFROM:+0200
TZOFFSETTO:+0100
TZNAME:CET
DTSTART:20251026T010000
END:STANDARD
END:VTIMEZONE
BEGIN:VEVENT
DTSTART;TZID=Europe/Budapest:20250610T100000
DTEND;TZID=Europe/Budapest:20250610T140000
DTSTAMP:20260420T022102
CREATED:20250527T135532Z
LAST-MODIFIED:20250527T135608Z
UID:38081-1749549600-1749564000@relnet.hu
SUMMARY:Acronis Academy Cloud Sales Training – Értékesítési képzés MSP partnereknek
DESCRIPTION:Regisztráljon az Acronis 4 órás online képzésére\, amelyen gyakorlati példákon keresztül tanulhatja meg\, miként pozicionálhatók és értékesíthetők az Acronis megoldásai\, különös tekintettel a Cyber Protect Cloud szolgáltatásra! \nREGISZTRÁCIÓ\n\n  \nIdőpont: 2025. június 10. (kedd) | 10:00-14:00 \nAz Acronis Academy Cloud Sales Training kifejezetten az MSP partnerek számára készült\, hogy segítsen: \n\nMegismerni az Acronis Cyber Protect Cloud értékesítésének lehetőségeit és bevált gyakorlatait\nElsajátítani a hatékony értékesítési stratégiákat és technikákat\nNövelni az értékesítési eredményeket és ügyfélelégedettséget\nKözvetlenül kérdezni az Acronis szakértőitől\, élőben\n\nElőadó: Francisco Amadi\, Partner Technology Evangelist EMEA\, Acronis
URL:https://relnet.hu/rendezveny/acronis-academy-cloud-sales-training-ertekesitesi-kepzes-msp-partnereknek/
LOCATION:Virtuális rendezvény
CATEGORIES:Acronis
ATTACH;FMTTYPE=image/jpeg:https://relnet.hu/wp-content/uploads/2025/05/AcronisAcademyCludSales-min.jpg
END:VEVENT
END:VCALENDAR