BEGIN:VCALENDAR
VERSION:2.0
PRODID:-//RelNet Technológia Kft. - ECPv5.16.4//NONSGML v1.0//EN
CALSCALE:GREGORIAN
METHOD:PUBLISH
XXXXXXXXXXXXXXXXXXXXXXXXXXXXXXXXXXXXXX
XXXXXXXXXXXXXXXXXXXXXXXXXXXXXXXXX
XXXXXXXXXXXXXXXXXXXXXXXXXXXXXXXXXXXXXXXXXXXXXXXXX
BEGIN:VTIMEZONE
TZID:Europe/Budapest
BEGIN:DAYLIGHT
TZOFFSETFROM:+0100
TZOFFSETTO:+0200
TZNAME:CEST
DTSTART:20250330T010000
END:DAYLIGHT
BEGIN:STANDARD
TZOFFSETFROM:+0200
TZOFFSETTO:+0100
TZNAME:CET
DTSTART:20251026T010000
END:STANDARD
END:VTIMEZONE
BEGIN:VEVENT
DTSTART;TZID=Europe/Budapest:20250916T100000
DTEND;TZID=Europe/Budapest:20250916T140000
DTSTAMP:20260420T094022
CREATED:20250822T091608Z
LAST-MODIFIED:20250822T091608Z
UID:39053-1758016800-1758031200@relnet.hu
SUMMARY:Acronis Academy: Gyorsított EDR/MDR/XDR-képzés MSP-k számára
DESCRIPTION:Az Acronis Academy tömörített online képzése bemutatja\, hogyan építhetők és működtethetők hatékonyan EDR-\, MDR- és XDR-alapú szolgáltatások menedzselt szolgáltatók (MSP-k) számára. \nREGISZTRÁCIÓ\n\nIdőpont: 2025. szeptember 16.\, 10:00–14:00 \nA képzés gyakorlati szemlélettel segít szembenézni a növekvő fenyegetettségekkel\, a szűkülő erőforrásokkal és a szakemberhiánnyal\, miközben bemutatja\, milyen üzleti értéket teremt az Acronis Advanced Security az MSP-k és ügyfeleik számára. A tanfolyam elvégzése és sikeres vizsga után Acronis Academy tanúsítvány szerezhető. \nTémák: \n\nEDR/MDR/XDR szolgáltatások kialakítása és üzemeltetése MSP-ként\nBevált védekezési gyakorlatok fejlett támadások ellen Acronis szakértőktől\nÉrtékesítési és marketing készségek: licencelés\, beszerzés\, érdeklődésgenerálás\, kiértékelő kérdések\, kifogáskezelés\nAcronis Advanced Security értékajánlata MSP-k és ügyfeleik számára\n\nElőadók: \n\nMarkus Bauer\, Senior Technology Evangelist EMEA\, Acronis\nFrancisco Amadi\, Partner Technology Evangelist EMEA\, Acronis\nMaxime Grave\, Partner Technology Evangelist\, Acronis
URL:https://relnet.hu/rendezveny/acronis-academy-gyorsitott-edr-mdr-xdr-kepzes-msp-k-szamara/
LOCATION:Virtuális rendezvény
CATEGORIES:Acronis,Webinárium
ATTACH;FMTTYPE=image/jpeg:https://relnet.hu/wp-content/uploads/2025/08/AcronisAcademyMSP-min.jpg
END:VEVENT
END:VCALENDAR