BEGIN:VCALENDAR
VERSION:2.0
PRODID:-//RelNet Technológia Kft. - ECPv5.16.4//NONSGML v1.0//EN
CALSCALE:GREGORIAN
METHOD:PUBLISH
XXXXXXXXXXXXXXXXXXXXXXXXXXXXXXXXXXXXXX
XXXXXXXXXXXXXXXXXXXXXXXXXXXXXXXXX
XXXXXXXXXXXXXXXXXXXXXXXXXXXXXXXXXXXXXXXXXXXXXXXXX
BEGIN:VTIMEZONE
TZID:Europe/Budapest
BEGIN:DAYLIGHT
TZOFFSETFROM:+0100
TZOFFSETTO:+0200
TZNAME:CEST
DTSTART:20200329T010000
END:DAYLIGHT
BEGIN:STANDARD
TZOFFSETFROM:+0200
TZOFFSETTO:+0100
TZNAME:CET
DTSTART:20201025T010000
END:STANDARD
END:VTIMEZONE
BEGIN:VEVENT
DTSTART;TZID=Europe/Budapest:20200428T100000
DTEND;TZID=Europe/Budapest:20200428T140000
DTSTAMP:20260420T005514
CREATED:20200409T143537Z
LAST-MODIFIED:20200424T125010Z
UID:5853-1588068000-1588082400@relnet.hu
SUMMARY:Acronis Certified Engineer (ACE) Cyber Cloud képzés
DESCRIPTION:Váljon Ön is a Felhő megoldás szakértőjévé! \nEgy szoftver\, mint szolgáltatás (SaaS) megoldás\, mindent egyetlen konzollal kezel\, így ezeket a szolgáltatásokat hatékonyan és a biztonsági kompromisszumok nélkül nyújthatja. \nAz Acronis a biztonsági mentés\, a katasztrófa utáni helyreállítás\, a biztonságos szinkronizálás és megosztási megoldásaival lerakta a szabvány alapjait. Az Acronis egyszerű\, teljes és megfizethető számítógépes védelmi megoldásokat kínál bármilyen működési környezet (virtuális\, fizikai\, felhő és mobil) esetén. \nAz online képzés során a résztvevők megismerhetik az Acronis Cyber ​​Cloud összes termékfunkcióját\, elkezdhetik az Acronis Cyber ​​Cloud konfigurálását\, betekintést nyerhetnek a többszintű és a több telephelyes biztonsági mentési szolgáltatások nyújtásának rejtelmeibe és sok gyakorlati tippet bevált gyakorlatot sajátíthatnak el. \nSzerezze meg a képesítést kényelmesen a saját íróasztalánál ülve! \nAz Acronis Certified Engineer (ACE) képzése három különálló webináriumból áll. Minden webinárium 4 óra hosszúságú.\nFelhívjuk figyelmét\, hogy az Acronis Certified Engineer vizsgához mindhárom webináriumon kötelező a részvétel. \nTematika:\nAz online szeminárium felkészíti Önt az ügyfelek támogatására és a felhő biztonsági mentésének (felhő alapú biztonsági mentések) sikeres végrehajtására. Ez a következő témákat tartalmazza: \n\nA kurzus bevezetése\nAz Acronis Backup Cloud megismerése\nAz Acronis Backup Cloud telepítése\nAz Acronis Backup Cloud konfigurálása\nBiztonsági mentési műveletek\nHelyreállítási műveletek\nAcronis Backup hibaelhárítás\n\nKépesítés:\nA webináriumok után lehetősége van arra\, hogy “Acronis Certified Engineer” vizsgát tegyen. Az online vizsga 40 kérdést tartalmaz angolul. A teszt a webináriumokat követő egy héten belül bármikor letehető. \nA vizsga teljesítése után az Acronis visszaigazolja az „Acronis Certified Engineer” képesítését\, és kiállít egy igazolást\, amelyet elhelyezhet a saját weboldalán. \nFontos – Felhívjuk figyelmét\, hogy regisztrálni kell az Acronis Partner Portálra is! \nA képzés 2 részből áll:\nZoom – kérjük regisztráljon a gombokra kattintva\, és az Akadémiára – a képzés után megkapja a linket\, és szüksége van a Partner Portal bejelentkezésre [SSO]. \n\n\nNe hagyja ki ezt a lehetőséget és regisztráljon most!\nAcronis Certified Engineer (ACE) Cyber Cloud képzés\nOnline webinárium\n2020. április 28-30. 10:00-14:00 (CEST) minden nap azonos időben\n \nREGISZTRÁCIÓ
URL:https://relnet.hu/rendezveny/acronis-certified-engineer-ace-cyber-cloud-kepzes-2/2020-04-28/
CATEGORIES:Acronis,Gyártó,Oktatás,Rendezvény,Végfelhasználó,Viszonteladó,Webinárium
ATTACH;FMTTYPE=image/png:https://relnet.hu/wp-content/uploads/2020/04/ACE_2.png
END:VEVENT
END:VCALENDAR