BEGIN:VCALENDAR
VERSION:2.0
PRODID:-//RelNet Technológia Kft. - ECPv5.16.4//NONSGML v1.0//EN
CALSCALE:GREGORIAN
METHOD:PUBLISH
XXXXXXXXXXXXXXXXXXXXXXXXXXXXXXXXXXXXXX
XXXXXXXXXXXXXXXXXXXXXXXXXXXXXXXXX
XXXXXXXXXXXXXXXXXXXXXXXXXXXXXXXXXXXXXXXXXXXXXXXXX
BEGIN:VTIMEZONE
TZID:Europe/Budapest
BEGIN:DAYLIGHT
TZOFFSETFROM:+0100
TZOFFSETTO:+0200
TZNAME:CEST
DTSTART:20250330T010000
END:DAYLIGHT
BEGIN:STANDARD
TZOFFSETFROM:+0200
TZOFFSETTO:+0100
TZNAME:CET
DTSTART:20251026T010000
END:STANDARD
END:VTIMEZONE
BEGIN:VEVENT
DTSTART;TZID=Europe/Budapest:20250918T100000
DTEND;TZID=Europe/Budapest:20250918T110000
DTSTAMP:20260420T093705
CREATED:20250910T091620Z
LAST-MODIFIED:20250910T091620Z
UID:39370-1758189600-1758193200@relnet.hu
SUMMARY:Acronis Cloud Sales tréning
DESCRIPTION:Az Acronis Academy Cloud Sales kurzusok következetesen segítik a partnerek értékesítési folyamatainak hatékonyságát. \nREGISZTRÁCIÓ\n\nIdőpont: 2025. szeptember 18. (csütörtök) | 10:00-11:00 \nAz Acronis Academy kézéseinek előnyei: \n\nÁtfogó termékképzések és bevált értékesítési gyakorlatok\nKérdések és válaszok\, élőben\nAz Acronis partnereire érvényes exkluzív sales technikák és taktikák\n\nElőadó: Francisco Amadi\, Partner Technology Evangelist EMEA
URL:https://relnet.hu/rendezveny/acronis-cloud-sales-trening/
LOCATION:Virtuális rendezvény
CATEGORIES:Acronis
ATTACH;FMTTYPE=image/jpeg:https://relnet.hu/wp-content/uploads/2025/09/AcronisCloudSalestrening-min.jpg
END:VEVENT
END:VCALENDAR