BEGIN:VCALENDAR
VERSION:2.0
PRODID:-//RelNet Technológia Kft. - ECPv5.16.4//NONSGML v1.0//EN
CALSCALE:GREGORIAN
METHOD:PUBLISH
XXXXXXXXXXXXXXXXXXXXXXXXXXXXXXXXXXXXXX
XXXXXXXXXXXXXXXXXXXXXXXXXXXXXXXXX
XXXXXXXXXXXXXXXXXXXXXXXXXXXXXXXXXXXXXXXXXXXXXXXXX
BEGIN:VTIMEZONE
TZID:Europe/Budapest
BEGIN:DAYLIGHT
TZOFFSETFROM:+0100
TZOFFSETTO:+0200
TZNAME:CEST
DTSTART:20210328T010000
END:DAYLIGHT
BEGIN:STANDARD
TZOFFSETFROM:+0200
TZOFFSETTO:+0100
TZNAME:CET
DTSTART:20211031T010000
END:STANDARD
END:VTIMEZONE
BEGIN:VEVENT
DTSTART;TZID=Europe/Budapest:20210329T140000
DTEND;TZID=Europe/Budapest:20210329T150000
DTSTAMP:20260420T045522
CREATED:20210325T181255Z
LAST-MODIFIED:20210325T181255Z
UID:14554-1617026400-1617030000@relnet.hu
SUMMARY:Acronis Cyber Protect Cloud - Új árképzési és licencelési modell
DESCRIPTION:Az Acronis Cyber Protect Cloud kiberbiztonsági\, biztonsági mentési és végpont-menedzsmentjének egyedülálló integrációja megkönnyíti a kibervédelmi szolgáltatások biztosítását az ügyfeleknek. A jelenlegi fejlesztések pedig még több biztonsági képességet\, rugalmasságot és rendszeres bevételt fognak biztosítani. \nMárcius 31-én  az Acronis lerántja a leplet az Acronis Cyber Protect Cloud új árképzési és licencelési modelljéről\, amely a következőket tartalmazza: \n\ningyenes „core” funkciók\, amelyekre szolgáltatásokat építhet\npay-as-you-go megoldások a szolgáltatási portfólió bővítéséhez\nfejlett védelmi csomagok\, amelyek új bevételi források kialakítását teszik lehetővé\n\nAz új licencelési modell az értékesítési és informatikai csapatok számára jelentős és pozitív változást jelenthet\,.  Ismerje meg az új modell részleteit! \nJelentkezzen most! \n\n\nÉrtékesítői tréning\n2021. március 29. 14:00-15:00 CET \nAz értékesítői tréning bemutatja\, hogy az új struktúra hogyan könnyíti meg a vállalkozások fejlesztését az új lehetőségek kiaknázása által. \nREGISZTRÁCIÓ
URL:https://relnet.hu/rendezveny/acronis-cyber-protect-cloud-uj-arkepzesi-es-licencelesi-modell-2/
LOCATION:Virtuális rendezvény
CATEGORIES:Acronis
ATTACH;FMTTYPE=image/jpeg:https://relnet.hu/wp-content/uploads/2021/03/1-min-2.jpg
END:VEVENT
END:VCALENDAR