BEGIN:VCALENDAR
VERSION:2.0
PRODID:-//RelNet Technológia Kft. - ECPv5.16.4//NONSGML v1.0//EN
CALSCALE:GREGORIAN
METHOD:PUBLISH
XXXXXXXXXXXXXXXXXXXXXXXXXXXXXXXXXXXXXX
XXXXXXXXXXXXXXXXXXXXXXXXXXXXXXXXX
XXXXXXXXXXXXXXXXXXXXXXXXXXXXXXXXXXXXXXXXXXXXXXXXX
BEGIN:VTIMEZONE
TZID:Europe/Budapest
BEGIN:DAYLIGHT
TZOFFSETFROM:+0100
TZOFFSETTO:+0200
TZNAME:CEST
DTSTART:20220327T010000
END:DAYLIGHT
BEGIN:STANDARD
TZOFFSETFROM:+0200
TZOFFSETTO:+0100
TZNAME:CET
DTSTART:20221030T010000
END:STANDARD
END:VTIMEZONE
BEGIN:VEVENT
DTSTART;TZID=Europe/Budapest:20220302T100000
DTEND;TZID=Europe/Budapest:20220302T110000
DTSTAMP:20260419T220320
CREATED:20220228T132715Z
LAST-MODIFIED:20220228T132715Z
UID:20801-1646215200-1646218800@relnet.hu
SUMMARY:Acronis Cyber Protect Cloud újdonságok - Webinárium
DESCRIPTION:Ismeri már az Acronis Cyber Protect Cloudot és Advanced funkcióinak széles körét? Csatlakozzon március 2-án\, szerdán 10 órakor a webinárumunkhoz\, ahol megismerheti az Acronis megoldásainak innovatív funkcióit. \nElőadó: \n\nDariusz Mumot – Senior Solutions Engineer\, Acronis\n\nAz előadás tartalma: \n\nAz Acronis Cyber Protect Cloud újdonságai\nAdvanced csomagok áttekintése\n\nAz Acronis Cyber Protect Cloud adatvédelemmel\, modern biztonsággal integrált mentési megoldást nyújt\, mely egyetlen termékben egyesíti a biztonsági mentést és az újgenerációs\, mesterséges intelligencia-alapú kártevőirtó\, víruskereső és végpontvédelmi funkciókat. Csatlakozzon webinárumunkhoz\, hogy megtudja\, milyen kiberbiztonsági szolgáltatásokkal bővült a közelmúltban ez a megoldás. \nAz Advanced csomagok lehetőséget adnak a szolgáltatóknak arra\, hogy bővítsék kínálatukat\, és további védelmet nyújtsanak ügyfeleiknek. Mostantól a szolgáltatók kiválaszthatják és összeegyeztethetik a fejlett csomagképességeket minden munkaterhelés optimális védelme érdekében. Az Advanced csomagok fő előnye\, hogy a szolgáltatók az egyszerűség megtartásával még nagyobb rugalmasságot biztosíthatnak azáltal\, hogy csak olyan funkciókat választanak és alkalmaznak\, amelyeket ügyfeleik fontosnak tartanak. \nAdvanced csomagok tartalma: \n\nAdvanced Security\nAdvanced Backup\nAdvanced Disaster Recovery\nAdvanced Email Security\nAdvanced File Sync and Share\nAdvanced Management\n\nIdőpont: 2022. március 2. (szerda)\, 10:00 CET \nRegisztráljon most! \nREGISZTRÁCIÓ
URL:https://relnet.hu/rendezveny/acronis-cyber-protect-cloud-ujdonsagok-webinarium/
LOCATION:Virtuális rendezvény
CATEGORIES:Webinárium
ATTACH;FMTTYPE=image/png:https://relnet.hu/wp-content/uploads/2022/02/Acronis_Cyber_Protect_Cloud-min.png
END:VEVENT
END:VCALENDAR