BEGIN:VCALENDAR
VERSION:2.0
PRODID:-//RelNet Technológia Kft. - ECPv5.16.4//NONSGML v1.0//EN
CALSCALE:GREGORIAN
METHOD:PUBLISH
XXXXXXXXXXXXXXXXXXXXXXXXXXXXXXXXXXXXXX
XXXXXXXXXXXXXXXXXXXXXXXXXXXXXXXXX
XXXXXXXXXXXXXXXXXXXXXXXXXXXXXXXXXXXXXXXXXXXXXXXXX
BEGIN:VTIMEZONE
TZID:Europe/Budapest
BEGIN:DAYLIGHT
TZOFFSETFROM:+0100
TZOFFSETTO:+0200
TZNAME:CEST
DTSTART:20240331T010000
END:DAYLIGHT
BEGIN:STANDARD
TZOFFSETFROM:+0200
TZOFFSETTO:+0100
TZNAME:CET
DTSTART:20241027T010000
END:STANDARD
END:VTIMEZONE
BEGIN:VEVENT
DTSTART;TZID=Europe/Budapest:20240523T110000
DTEND;TZID=Europe/Budapest:20240523T130000
DTSTAMP:20260420T020731
CREATED:20240509T124702Z
LAST-MODIFIED:20240509T124702Z
UID:33758-1716462000-1716469200@relnet.hu
SUMMARY:Acronis MSP Cyberstock 2024
DESCRIPTION:Az Acronis május 23-án második alkalommal tartja meg éves MSP Cyberstock virtuális konferenciáját. Csatlakozzon a hat rövid blokkhoz\, hogy értékes információkat és stratégiákat ismerjen meg a menedzselt szolgáltatók biztonságáról\, megfeleléséről és növekedési lehetőségeiről. \nREGISZTRÁCIÓ\n\nIdőpont: 2024. május 23. (csütörtök) | 11:00-13:00 \nTémák: \n– Hogyan igazodnak a biztonsági megoldások az új kormányzati előírásokhoz és a biztosítási követelményekhez? \n– Hogyan használják az MSP-k a mesterséges intelligenciát a legújabb kiberfenyegetések elleni küzdelemben? \n– Az MSP-k növekedését és biztonságát elősegítő szolgáltatások műszaki ütemterve \nNapirend: \n11:05 – 11:25 Stand By Me — How cybersecurity is becoming a team sport that MSPs can win \n11:25 – 11:45 What Comes Next — The Acronis cybersecurity roadmap \n11:45 – 12:05 AI for the Good Guys — Accelerating protection with AI in Acronis \n12:05 – 12:25 MSP Compliance in the age of AI — NIS 2\, Cyber Insurance\, and Beyond \n12:25 – 12:40 Hitting the Triple Play — EDR\, MDR\, and XDR growth strategies for MSPs \n12:40 – 12:55 Using Microsoft’s Marketing Might — Building profitable MSP security packages on the Microsoft Stack \nAz Acronis közkívánatra újra virtuális swag csomagot küld a résztvevőknek. \nRegisztráljon most\, hogy biztosítsa helyét az MSP Cyberstock 2024 virtuális rendezvényen! \nREGISZTRÁCIÓ
URL:https://relnet.hu/rendezveny/acronis-msp-cyberstock-2024/
LOCATION:Virtuális rendezvény
CATEGORIES:Acronis
ATTACH;FMTTYPE=image/jpeg:https://relnet.hu/wp-content/uploads/2024/05/AcronisMspCyberstock-min.jpg
END:VEVENT
END:VCALENDAR