BEGIN:VCALENDAR
VERSION:2.0
PRODID:-//RelNet Technológia Kft. - ECPv5.16.4//NONSGML v1.0//EN
CALSCALE:GREGORIAN
METHOD:PUBLISH
XXXXXXXXXXXXXXXXXXXXXXXXXXXXXXXXXXXXXX
XXXXXXXXXXXXXXXXXXXXXXXXXXXXXXXXX
XXXXXXXXXXXXXXXXXXXXXXXXXXXXXXXXXXXXXXXXXXXXXXXXX
BEGIN:VTIMEZONE
TZID:Europe/Budapest
BEGIN:DAYLIGHT
TZOFFSETFROM:+0100
TZOFFSETTO:+0200
TZNAME:CEST
DTSTART:20250330T010000
END:DAYLIGHT
BEGIN:STANDARD
TZOFFSETFROM:+0200
TZOFFSETTO:+0100
TZNAME:CET
DTSTART:20251026T010000
END:STANDARD
END:VTIMEZONE
BEGIN:VEVENT
DTSTART;TZID=Europe/Budapest:20250319T120000
DTEND;TZID=Europe/Budapest:20250319T133000
DTSTAMP:20260420T033415
CREATED:20250313T145449Z
LAST-MODIFIED:20250314T080709Z
UID:37236-1742385600-1742391000@relnet.hu
SUMMARY:Acronis webinárium – Útmutató a Cyber Protect Cloud sikeres bevezetéséhez
DESCRIPTION:Csatlakozzon az interaktív webináriumhoz\, amelyen az Acronis Solutions Engineering csapata MSP szemszögből bemutatja a Cyber Protect Cloud bevezetésének módjait. \nREGISZTRÁCIÓ\n\n  \nIdőpont: 2025. március 19. (szerda) | 12:00-13:30 \nÖn minél előbb biztosít átfogó védelmet ügyfeleinek\, annál gyorsabban térül meg a befektetése\, és annál könnyebben emelkedhet ki versenytársai közül. Egy új megoldás bevezetése azonban kihívásokkal járhat\, és kezdetben időigényesnek\, stresszesnek bizonyulhat. Az Acronis segít áthidalni ezeket az akadályokat. \nEz a webinárium szolgáltató szervezeteknek szól. Az Acronis mérnöki csapata lépésről lépésre mutatja be\, hogyan vezethetik be egyszerűen és hatékonyan az Acronis Cyber Protect Cloud szolgáltatást. \nA webinárium témái: \n\nAgentek telepítse és a kezelőfelület megismerése\nBérlők (tenant) létrehozása\, személyre szabott védelmi tervek alkalmazása és ajánlati elemek konfigurálása\nRiasztások és jelentések konfigurálása\nAz Acronis Partner Portal áttekintése\nKérdések és válaszok\n\nElőadó: Boris Kazakov\, Solutions Engineer\, Acronis
URL:https://relnet.hu/rendezveny/acronis-webinarium-utmutato-a-cyber-protect-cloud-sikeres-bevezetesehez/
LOCATION:Virtuális rendezvény
CATEGORIES:Acronis
ATTACH;FMTTYPE=image/jpeg:https://relnet.hu/wp-content/uploads/2025/03/AcronisCPCUtmutato-min.jpg
END:VEVENT
END:VCALENDAR