BEGIN:VCALENDAR
VERSION:2.0
PRODID:-//RelNet Technológia Kft. - ECPv5.16.4//NONSGML v1.0//EN
CALSCALE:GREGORIAN
METHOD:PUBLISH
XXXXXXXXXXXXXXXXXXXXXXXXXXXXXXXXXXXXXX
XXXXXXXXXXXXXXXXXXXXXXXXXXXXXXXXX
XXXXXXXXXXXXXXXXXXXXXXXXXXXXXXXXXXXXXXXXXXXXXXXXX
BEGIN:VTIMEZONE
TZID:Europe/Budapest
BEGIN:DAYLIGHT
TZOFFSETFROM:+0100
TZOFFSETTO:+0200
TZNAME:CEST
DTSTART:20190331T010000
END:DAYLIGHT
BEGIN:STANDARD
TZOFFSETFROM:+0200
TZOFFSETTO:+0100
TZNAME:CET
DTSTART:20191027T010000
END:STANDARD
END:VTIMEZONE
BEGIN:VEVENT
DTSTART;TZID=Europe/Budapest:20190905T170000
DTEND;TZID=Europe/Budapest:20190905T180000
DTSTAMP:20260419T230754
CREATED:20190902T130842Z
LAST-MODIFIED:20190902T144426Z
UID:3499-1567702800-1567706400@relnet.hu
SUMMARY:Aerohive technológiai áttekintő webinárium
DESCRIPTION:Az Extreme Networks az Aerohive felvásárlása kapcsán két exkluzív partner webináriumot hirdetett a hétre. A webináriumok célja\, hogy technológiai áttekintést nyújtson az Aerohive és az Extreme megoldásáról\, valamint egy élő bemutató keretében megismertesse a mesterséges intelligenciával és gépi tanulással támogatott felhőalapú hálózati menedzsment felületet. \nAerohive technológiai áttekintő webinárium \nRagadja meg ezt a nagyszerű lehetőséget\, hogy megismerje az Extreme kiterjedt hálózati portfólióját. \n\n\nA webinárium angol nyelvű lesz. \nRegisztráljon már most! \n Aerohive Technology Overview Webinar\n2019. szeptember 5. 17:00 óra (CEST) \nREGISZTRÁCIÓ
URL:https://relnet.hu/rendezveny/aerohive-technologiai-attekinto-webinarium/
CATEGORIES:Extreme Networks,Viszonteladó,Webinárium
ATTACH;FMTTYPE=image/png:https://relnet.hu/wp-content/uploads/2019/09/Extreme-Webinar.png
END:VEVENT
END:VCALENDAR