BEGIN:VCALENDAR
VERSION:2.0
PRODID:-//RelNet Technológia Kft. - ECPv5.16.4//NONSGML v1.0//EN
CALSCALE:GREGORIAN
METHOD:PUBLISH
XXXXXXXXXXXXXXXXXXXXXXXXXXXXXXXXXXXXXX
XXXXXXXXXXXXXXXXXXXXXXXXXXXXXXXXX
XXXXXXXXXXXXXXXXXXXXXXXXXXXXXXXXXXXXXXXXXXXXXXXXX
BEGIN:VTIMEZONE
TZID:Europe/Budapest
BEGIN:DAYLIGHT
TZOFFSETFROM:+0100
TZOFFSETTO:+0200
TZNAME:CEST
DTSTART:20200329T010000
END:DAYLIGHT
BEGIN:STANDARD
TZOFFSETFROM:+0200
TZOFFSETTO:+0100
TZNAME:CET
DTSTART:20201025T010000
END:STANDARD
END:VTIMEZONE
BEGIN:VEVENT
DTSTART;TZID=Europe/Budapest:20200514T140000
DTEND;TZID=Europe/Budapest:20200514T160000
DTSTAMP:20260422T175242
CREATED:20200424T144612Z
LAST-MODIFIED:20200508T081654Z
UID:6231-1589464800-1589472000@relnet.hu
SUMMARY:Ahol a mesterséges intelligencia életre kel
DESCRIPTION:Már mindent hallott a mesterséges intelligencia (MI) kínálta lehetőségekről?\n \nDe mit jelent valójában ez az Ön vállalkozása számára? \nA Juniper Networks virtuális csúcstalálkozóján megtudhatja.\n \nA rendezvényen a következő témákra térnek ki: \n• Nyerjen valódi képet\, első kézből\, elismert ipari szakemberektől az MI alkalmazási területeiről!\n• Ismerje meg\, hogyan segítheti az MI az Ön vállalkozását egy gyakorlati útmutatón keresztül!\n• Tudjon meg többet az MI-ről a hálózatépítő guruk bemutatóin keresztül!\n \nA részletes napirend megtekintéséhez és a regisztrációjához látogasson el a Juniper Summit webhelyre.\n \nCsatlakozzon a Juniper virtuális rendezvényéhez\, és ismerkedjen meg vele\, hogyan vezetheti a vállalkozását egy MI-vezérelt jövőbe! \n \n\n\nWhere AI Gets Real\nVirtual Summit\n2020. május 14. 14:00-16:00 CEST\n \nREGISZTRÁCIÓ\n\n \n\nKapcsolódó esemény:\n2020. május 12. – Mist Bootcamp \nhttps://relnet.hu/rendezveny/ismerje-meg-a-halozatok-legjobbjat-szabaduljon-meg-a-hagyomanyos-halozati-architektura-kotottsegeitol-a-mesterseges-intelligencia-segitsegevel/ \nJuniper webináriumok\nhttps://relnet.hu/rendezveny/juniper-webinariumok/2020-05-21/ \nKapcsolódó tartalom:\nA Juniper Networks felvásárolta a Mist Systemset \nA Juniper Networks társadalmi szerepvállalása a járvány elleni küzdelemben
URL:https://relnet.hu/rendezveny/ahol-a-mesterseges-intelligencia-eletre-kel/
CATEGORIES:Juniper Networks,Mesterséges intelligencia,Rendezvény,Végfelhasználó,Viszonteladó,Webinárium
ATTACH;FMTTYPE=image/png:https://relnet.hu/wp-content/uploads/2020/04/Virtual-Summit.png
END:VEVENT
END:VCALENDAR