BEGIN:VCALENDAR
VERSION:2.0
PRODID:-//RelNet Technológia Kft. - ECPv5.16.4//NONSGML v1.0//EN
CALSCALE:GREGORIAN
METHOD:PUBLISH
XXXXXXXXXXXXXXXXXXXXXXXXXXXXXXXXXXXXXX
XXXXXXXXXXXXXXXXXXXXXXXXXXXXXXXXX
XXXXXXXXXXXXXXXXXXXXXXXXXXXXXXXXXXXXXXXXXXXXXXXXX
BEGIN:VTIMEZONE
TZID:Europe/Budapest
BEGIN:DAYLIGHT
TZOFFSETFROM:+0100
TZOFFSETTO:+0200
TZNAME:CEST
DTSTART:20220327T010000
END:DAYLIGHT
BEGIN:STANDARD
TZOFFSETFROM:+0200
TZOFFSETTO:+0100
TZNAME:CET
DTSTART:20221030T010000
END:STANDARD
END:VTIMEZONE
BEGIN:VEVENT
DTSTART;TZID=Europe/Budapest:20220519T100000
DTEND;TZID=Europe/Budapest:20220519T110000
DTSTAMP:20260420T031116
CREATED:20220513T115334Z
LAST-MODIFIED:20220513T115829Z
UID:20329-1652954400-1652958000@relnet.hu
SUMMARY:AI-Driven SD-WAN a Junipertől - Rögzített webinárium
DESCRIPTION:Nézze meg a Juniper Networks 45 perces\, rögzített webináriumát\, amelyen a Juniper SD-WAN technológiáját mutatják be a vállalat szakértői. \nAz SD-WAN felszámolta a hardveralapú hálózatok korlátait azáltal\, hogy megteremtette az automatizált\, önvezető WAN-t. A webináriumon szó lesz az SD-WAN vonatkozásában az adatforgalomról készített kimutatásokról\, az alkalmazásteljesítményről és a felhasználói élményről is. \nA Juniper “AI-Driven SD-WAN” technológiája telemetriai adatokat szolgáltat a Mist Cloudnak\, ami által a Mist észleli az anomáliákat és automatikusan cselekszik. \nKattintson a „Regisztráció” gombra! A Juniper Networks az űrlap kitöltése után elküldi Önnek a webinárium rögzített változatát. \nREGISZTRÁCIÓ
URL:https://relnet.hu/rendezveny/ai-driven-sd-wan-a-junipertol-rogzitett-webinarium/2022-05-19/
LOCATION:Virtuális rendezvény
CATEGORIES:Juniper Networks,Mist,Végfelhasználó,Viszonteladó,Webinárium
ATTACH;FMTTYPE=image/png:https://relnet.hu/wp-content/uploads/2022/05/Juniper-webinariumok-min.png
END:VEVENT
END:VCALENDAR