BEGIN:VCALENDAR
VERSION:2.0
PRODID:-//RelNet Technológia Kft. - ECPv5.16.4//NONSGML v1.0//EN
CALSCALE:GREGORIAN
METHOD:PUBLISH
XXXXXXXXXXXXXXXXXXXXXXXXXXXXXXXXXXXXXX
XXXXXXXXXXXXXXXXXXXXXXXXXXXXXXXXX
XXXXXXXXXXXXXXXXXXXXXXXXXXXXXXXXXXXXXXXXXXXXXXXXX
BEGIN:VTIMEZONE
TZID:Europe/Budapest
BEGIN:DAYLIGHT
TZOFFSETFROM:+0100
TZOFFSETTO:+0200
TZNAME:CEST
DTSTART:20220327T010000
END:DAYLIGHT
BEGIN:STANDARD
TZOFFSETFROM:+0200
TZOFFSETTO:+0100
TZNAME:CET
DTSTART:20221030T010000
END:STANDARD
END:VTIMEZONE
BEGIN:VEVENT
DTSTART;TZID=Europe/Budapest:20220512T100000
DTEND;TZID=Europe/Budapest:20220512T110000
DTSTAMP:20260422T193130
CREATED:20220411T140021Z
LAST-MODIFIED:20220427T130336Z
UID:21645-1652349600-1652353200@relnet.hu
SUMMARY:Alapozza meg sikerét a SolarWindsszel!
DESCRIPTION:A SolarWinds a könnyen használható\, hatékony és biztonságos IT-menedzsment szoftverek vezető fejlesztője. Világszerte használt termékei bármilyen típusú\, méretű vagy összetettségű szervezet számára lehetővé teszik az üzleti átalakulás felgyorsítását a modern hibrid IT-környezetekben. A SolarWinds a felhasználóközpontúság és a hibrid IT teljes körű menedzselése iránti elkötelezettsége miatt vált globális vezetővé a monitorozó megoldások\, az IT-szolgáltatásmenedzsment\, az alkalmazásteljesítmény és az adatbázis-kezelési szoftverek terén. \nA SolarWinds IT-üzemeltetésmenedzsment (ITOM) portfóliója olyan megoldásokat tartalmaz\, amelyek lehetővé teszik ügyfelei számára\, hogy részletesen nyomon kövessék az alkalmazásokat futtató rendszerek teljesítményét és elérhetőségét. Az egyes megoldások összekapcsolódnak\, így átfogó képet adnak az alkalmazásokról\, adatbázisokról\, infrastruktúrákról és a hálózat egészéről. \nAkár egyenként használja az egyes SolarWinds termékeket\, akár kombinálja őket\, a SolarWinds ITOM portfólió jelentősen csökkenti az IT üzemeltetési feladatok összetettségét\, és segít gyorsabban azonosítani az informatikai problémák kiváltó okait és így a hibák elhárítását. \nCsatlakozzon a 2022. május 12-i webinárumhoz\, amelyen Fekete József\, a RelNet operatív igazgatója és Remik Sieminski CEE regionális értékesítési menedzser bemutatja a SolarWinds ITOM portfólióját! \nTémák: \n\n Alapinformációk a SolarWindsről\nA SolarWinds ITOM-portfóliója\nÜgyfélsiker\nTHWACK – Szakmai közösség IT-szakemberek számára\nSolarWinds támogatási szolgáltatások\nHasznos eszközök\n\nAlapozza meg sikerét a SolarWindsszel! \nWebinárium dátuma: 2022.05.12 (csütörtök) \nWebinárium időpontja: 10:00-11:00 CET \nAz eseményen való részvételt 12 extra ponttal jutalmazzuk eLearning rendszerünkben!
URL:https://relnet.hu/rendezveny/alapozza-meg-sikeret-a-solarwindsszel/
LOCATION:Virtuális rendezvény
CATEGORIES:RelNet,SolarWinds,Végfelhasználó,Webinárium
ATTACH;FMTTYPE=image/png:https://relnet.hu/wp-content/uploads/2022/04/SW_1-min.png
END:VEVENT
END:VCALENDAR