BEGIN:VCALENDAR
VERSION:2.0
PRODID:-//RelNet Technológia Kft. - ECPv5.16.4//NONSGML v1.0//EN
CALSCALE:GREGORIAN
METHOD:PUBLISH
XXXXXXXXXXXXXXXXXXXXXXXXXXXXXXXXXXXXXX
XXXXXXXXXXXXXXXXXXXXXXXXXXXXXXXXX
XXXXXXXXXXXXXXXXXXXXXXXXXXXXXXXXXXXXXXXXXXXXXXXXX
BEGIN:VTIMEZONE
TZID:Europe/Budapest
BEGIN:DAYLIGHT
TZOFFSETFROM:+0100
TZOFFSETTO:+0200
TZNAME:CEST
DTSTART:20250330T010000
END:DAYLIGHT
BEGIN:STANDARD
TZOFFSETFROM:+0200
TZOFFSETTO:+0100
TZNAME:CET
DTSTART:20251026T010000
END:STANDARD
END:VTIMEZONE
BEGIN:VEVENT
DTSTART;VALUE=DATE:20250918
DTEND;VALUE=DATE:20250919
DTSTAMP:20260420T093822
CREATED:20250911T094703Z
LAST-MODIFIED:20250911T101528Z
UID:39402-1758153600-1758239999@relnet.hu
SUMMARY:AlgoSec webinárium – A felhőbiztonsági beruházások megtérülése
DESCRIPTION:Regisztráljon az angol nyelvű webináriumhoz\, hogy megtudja\, miként alakítható át a felhőbiztonság költségközpontból bevételt és növekedést jelentő versenyelőnnyé\, számszerűsíthető üzleti értékekkel! \nREGISZTRÁCIÓ\n\nIdőpont: 2025. szeptember 18. (csütörtök) \nA beszélgetés fókusza: hogyan lehet a CFO-kkal és üzleti vezetőkkel folytatott biztonsági diskurzust a „költség” keretezésről a „mérhető érték” fogalmára átállítani. Miért van szükség automatizációra\, mi a tétlenség pénzügyi ára\, és miért jelent erős üzleti érvet az AlgoSec Cloud Enterprise? \nTémák: \n\nMegtérülés (ROI)\, ami felgyorsítja a sales-ciklust és segít bevonni a döntéshozókat\nÉrtékalapú pozicionálás: a biztonság\, mint hatékonyságnövelő és bevételgyorsító tényező\n\n\nA biztonság költségközpontból növekedési motorrá alakítása\nA rejtett kiadások\, veszteségek azonosítása és megszüntetése az akadozó biztonsági folyamatokban\nAutomatizáció bevetése a bevétel és a termékbevezetések felgyorsítására\nMűködési veszteség csökkentése a magas hozzáadott értékű IT-erőforrások felszabadításával\nVédelekezés a költséges incidensek és megfelelőségi bukások pénzügyi hatásai ellen\n\nElőadó: Chris Thomas – Chief Revenue Officer\, AlgoSec
URL:https://relnet.hu/rendezveny/algosec-webinarim-a-felhobiztonsagi-beruhazasok-megterulese/
LOCATION:Virtuális rendezvény
CATEGORIES:AlgoSec,Webinárium
ATTACH;FMTTYPE=image/jpeg:https://relnet.hu/wp-content/uploads/2025/09/AlgoSecFelhobiztonsagiWebinar-min.jpg
END:VEVENT
END:VCALENDAR