BEGIN:VCALENDAR
VERSION:2.0
PRODID:-//RelNet Technológia Kft. - ECPv5.16.4//NONSGML v1.0//EN
CALSCALE:GREGORIAN
METHOD:PUBLISH
XXXXXXXXXXXXXXXXXXXXXXXXXXXXXXXXXXXXXX
XXXXXXXXXXXXXXXXXXXXXXXXXXXXXXXXX
XXXXXXXXXXXXXXXXXXXXXXXXXXXXXXXXXXXXXXXXXXXXXXXXX
BEGIN:VTIMEZONE
TZID:Europe/Budapest
BEGIN:DAYLIGHT
TZOFFSETFROM:+0100
TZOFFSETTO:+0200
TZNAME:CEST
DTSTART:20250330T010000
END:DAYLIGHT
BEGIN:STANDARD
TZOFFSETFROM:+0200
TZOFFSETTO:+0100
TZNAME:CET
DTSTART:20251026T010000
END:STANDARD
END:VTIMEZONE
BEGIN:VEVENT
DTSTART;TZID=Europe/Budapest:20251217T110000
DTEND;TZID=Europe/Budapest:20251217T120000
DTSTAMP:20260420T022043
CREATED:20251210T101710Z
LAST-MODIFIED:20251210T101710Z
UID:40661-1765969200-1765972800@relnet.hu
SUMMARY:AlgoSec webinárium: Szabályok újrahitelesítése üzleti sebességgel
DESCRIPTION:Regisztráljon\, és váltsa hetekről órákra a tűzfalszabályok kezelését az AlgoSec-kel! \nREGISZTRÁCIÓ\n\nIdőpont: 2025. december 17. (szerda) | 11:00-12:00 \nA tűzfalszabályok manuális újrahitelesítése nem csupán időigényes\, hanem hosszú távon fenntarthatatlan. Ahogy az alkalmazáskörnyezetek bővülnek és az auditálási követelmények növekednek\, a biztonsági csapatoknak többre van szükségük\, mint táblázatokra\, ellenőrzőlistákra és eszközszintű felülvizsgálatokra. \nEbben a webináriumban az AlgoSec termékmenedzsere megmutatja\, miként teszi az AlgoSec hatékonnyá és átláthatóvá az újrahitelesítési folyamatokat. Az alkalmazásközpontú tűzfalkezeléssel gyorsabbá válik a házirendek hitelesítése – teljes alkalmazáskontextusban\, találgatások nélkül\, csökkentve az üzemeltetési terheket komplex környezetekben is. \nMiért érdemes csatlakozni? \n\nHitelesítési ciklusok csökkentése akár 95%-kal.\nVakfoltok megszüntetése a szabályéletciklus során.\nSzabályok összehangolása üzleti szándékkal\, nem csupán a tűzfal szintaktikájával.\nAlkalmazásfelderítés és szabályhitelesítés automatizálása.\n\nElőadó: David Feldman\, Product Manager\, AlgoSec
URL:https://relnet.hu/rendezveny/algosec-webinarium-szabalyok-ujrahitelesitese-uzleti-sebesseggel/
LOCATION:Virtuális rendezvény
CATEGORIES:AlgoSec,Webinárium
ATTACH;FMTTYPE=image/jpeg:https://relnet.hu/wp-content/uploads/2025/12/AlgoSecSzabalyokUjrahitelesitese-min.jpg
END:VEVENT
END:VCALENDAR