BEGIN:VCALENDAR
VERSION:2.0
PRODID:-//RelNet Technológia Kft. - ECPv5.16.4//NONSGML v1.0//EN
CALSCALE:GREGORIAN
METHOD:PUBLISH
XXXXXXXXXXXXXXXXXXXXXXXXXXXXXXXXXXXXXX
XXXXXXXXXXXXXXXXXXXXXXXXXXXXXXXXX
XXXXXXXXXXXXXXXXXXXXXXXXXXXXXXXXXXXXXXXXXXXXXXXXX
BEGIN:VTIMEZONE
TZID:Europe/Budapest
BEGIN:DAYLIGHT
TZOFFSETFROM:+0100
TZOFFSETTO:+0200
TZNAME:CEST
DTSTART:20250330T010000
END:DAYLIGHT
BEGIN:STANDARD
TZOFFSETFROM:+0200
TZOFFSETTO:+0100
TZNAME:CET
DTSTART:20251026T010000
END:STANDARD
END:VTIMEZONE
BEGIN:VEVENT
DTSTART;TZID=Europe/Budapest:20250210T160000
DTEND;TZID=Europe/Budapest:20250210T170000
DTSTAMP:20260419T230914
CREATED:20250205T080737Z
LAST-MODIFIED:20250205T080737Z
UID:36700-1739203200-1739206800@relnet.hu
SUMMARY:Allot webinárium partnerek számára
DESCRIPTION:Csatlakozzon az Allot exkluzív partneri webináriumához\, hogy megismerje a Traffic Intelligence legújabb kibocsátásának képességeit\, köztük a poszt-kvantum titkosítás (PQC) támogatását! \nREGISZTRÁCIÓ\n\nIdőpont: 2025. február 10. (hétfő) | 09:00 – 10:00 \nA R18.5 GA kibocsátás fejlesztései között vannak az MI-képességek\, valamint a QUIC protokoll és a poszt-kvantum kriptográfia (PQC) támogatása. \nTémák: \n\nHogyan segíti az R18.5 az üzemeltetési folyamatokat?\nFejlett riportolási képességek\nQUIC és PQC támogatás\nMesterséges intelligencia az Allot DART technológiában\nKérdések és válaszok\n\nElőadók: \n\nMichael Benattar\, AVP Enterprise & Cloud\nPerry Nakar\, AVP Customer Service Enterprise\n\n 
URL:https://relnet.hu/rendezveny/allot-webinarium-partnerek-szamara/2025-02-10/2/
LOCATION:Virtuális rendezvény
CATEGORIES:Allot
ATTACH;FMTTYPE=image/jpeg:https://relnet.hu/wp-content/uploads/2025/02/AllotWebinar2025-min.jpg
END:VEVENT
END:VCALENDAR