BEGIN:VCALENDAR
VERSION:2.0
PRODID:-//RelNet Technológia Kft. - ECPv5.16.4//NONSGML v1.0//EN
CALSCALE:GREGORIAN
METHOD:PUBLISH
XXXXXXXXXXXXXXXXXXXXXXXXXXXXXXXXXXXXXX
XXXXXXXXXXXXXXXXXXXXXXXXXXXXXXXXX
XXXXXXXXXXXXXXXXXXXXXXXXXXXXXXXXXXXXXXXXXXXXXXXXX
BEGIN:VTIMEZONE
TZID:Europe/Budapest
BEGIN:DAYLIGHT
TZOFFSETFROM:+0100
TZOFFSETTO:+0200
TZNAME:CEST
DTSTART:20250330T010000
END:DAYLIGHT
BEGIN:STANDARD
TZOFFSETFROM:+0200
TZOFFSETTO:+0100
TZNAME:CET
DTSTART:20251026T010000
END:STANDARD
END:VTIMEZONE
BEGIN:VEVENT
DTSTART;TZID=Europe/Budapest:20250826T160000
DTEND;TZID=Europe/Budapest:20250826T170000
DTSTAMP:20260420T033427
CREATED:20250808T100341Z
LAST-MODIFIED:20250811T082726Z
UID:38915-1756224000-1756227600@relnet.hu
SUMMARY:„Always on” hozzáférés biztosítása kritikus egészségügyi alkalmazásokhoz
DESCRIPTION:Vegyen részt a Progress Kemp LoadMaster angol nyelvű webináriumán\, és tudja meg\, miként biztosíthatnak egészségügyi szervezetek magas rendelkezésre állást a kritikus rendszereik számára! \nREGISZTRÁCIÓ\n\nIdőpont: 2025. augusztus 26. (kedd) | 16:00–17:00 \nAz egészségügyben elengedhetetlen a legfontosabb alkalmazásokhoz való folyamatos hozzáférés\, hiszen a kiesések hátráltathatják a kórházi dolgozók napi munkáját\, sőt\, veszélyeztethetik a betegellátás minőségét is. \nA webinárium során bemutatásra kerül: \n\nHogyan optimalizálható az egészségügyi alkalmazások teljesítménye\nMilyen megoldásokkal készíthető hatékony failover stratégia\nMilyen szempontok szerint érdemes konfigurálni a terheléselosztó (Kemp LoadMaster) eszközöket az egészségügyi infrastruktúrában
URL:https://relnet.hu/rendezveny/always-on-hozzaferes-biztositasa-kritikus-egeszsegugyi-alkalmazasokhoz/
LOCATION:Virtuális rendezvény
CATEGORIES:Kemp,Progress,Webinárium
ATTACH;FMTTYPE=image/jpeg:https://relnet.hu/wp-content/uploads/2025/08/ProgressAlwaysOnEu-min.jpg
END:VEVENT
END:VCALENDAR