BEGIN:VCALENDAR
VERSION:2.0
PRODID:-//RelNet Technológia Kft. - ECPv5.16.4//NONSGML v1.0//EN
CALSCALE:GREGORIAN
METHOD:PUBLISH
XXXXXXXXXXXXXXXXXXXXXXXXXXXXXXXXXXXXXX
XXXXXXXXXXXXXXXXXXXXXXXXXXXXXXXXX
XXXXXXXXXXXXXXXXXXXXXXXXXXXXXXXXXXXXXXXXXXXXXXXXX
BEGIN:VTIMEZONE
TZID:Europe/Budapest
BEGIN:DAYLIGHT
TZOFFSETFROM:+0100
TZOFFSETTO:+0200
TZNAME:CEST
DTSTART:20230326T010000
END:DAYLIGHT
BEGIN:STANDARD
TZOFFSETFROM:+0200
TZOFFSETTO:+0100
TZNAME:CET
DTSTART:20231029T010000
END:STANDARD
END:VTIMEZONE
BEGIN:VEVENT
DTSTART;TZID=Europe/Budapest:20230926T100000
DTEND;TZID=Europe/Budapest:20230926T110000
DTSTAMP:20260420T085036
CREATED:20230814T065004Z
LAST-MODIFIED:20230907T083139Z
UID:30378-1695722400-1695726000@relnet.hu
SUMMARY:Az AI-vezérelt kibertámadások hatásainak kezelése
DESCRIPTION:A mesterséges intelligencia megváltoztatja a vállalatok működését\, de a kiberbűnözők módszereit is. Az Ön cége készen áll a mesterséges intelligencián alapuló kiberfenyegetésekre? Csatlakozzon az AI-vezérelt kibertámadásokról szóló webináriumhoz! \nREGISZTRÁCIÓ\n\nIdőpont: 2023. szeptember 26. (kedd) | 10:00-11:00 \nCsatlakozzon Ön is a magyar nyelvű webináriumunkhoz\, amelyet a kiberbiztonsági terület szakértői tartanak\, és amelynek témája a mesterséges intelligencia által vezérelt kibertámadások következményeinek kezelése. \nMegvizsgáljuk az AI-alapú támadási taktikákat és azok lehetséges hatásait egy szervezet digitális eszközeire. Emellett bemutatjuk a proaktív védekezési stratégiákat\, beleértve a mesterséges intelligencián alapuló mechanizmusokat és a viselkedéselemzést\, amellyel hatékonyan vehető fel a harc az egyre kifinomultabb fenyegetésekkel szemben. \nAz előadáson felsoroljuk az észlelés és a válaszadás bevált gyakorlatait\, valamint az AI-alapú biztonsági eszközök integrációjának lehetőségeit. \nElőadók: \nNeumann Róbert\, az Acronis Kibervédelmi Műveleti Központ vezetője\nOrosz Nándor\, projekt- és szolgáltatási igazgató\, RelNet Technológia Kft.
URL:https://relnet.hu/rendezveny/az-ai-vezerelt-kibertamadasok-hatasainak-kezelese/
LOCATION:Virtuális rendezvény
CATEGORIES:Acronis
ATTACH;FMTTYPE=image/png:https://relnet.hu/wp-content/uploads/2023/08/AcrTamadas-min.png
END:VEVENT
END:VCALENDAR