BEGIN:VCALENDAR
VERSION:2.0
PRODID:-//RelNet Technológia Kft. - ECPv5.16.4//NONSGML v1.0//EN
CALSCALE:GREGORIAN
METHOD:PUBLISH
XXXXXXXXXXXXXXXXXXXXXXXXXXXXXXXXXXXXXX
XXXXXXXXXXXXXXXXXXXXXXXXXXXXXXXXX
XXXXXXXXXXXXXXXXXXXXXXXXXXXXXXXXXXXXXXXXXXXXXXXXX
BEGIN:VTIMEZONE
TZID:Europe/Budapest
BEGIN:DAYLIGHT
TZOFFSETFROM:+0100
TZOFFSETTO:+0200
TZNAME:CEST
DTSTART:20260329T010000
END:DAYLIGHT
BEGIN:STANDARD
TZOFFSETFROM:+0200
TZOFFSETTO:+0100
TZNAME:CET
DTSTART:20261025T010000
END:STANDARD
END:VTIMEZONE
BEGIN:VEVENT
DTSTART;TZID=Europe/Budapest:20260113T160000
DTEND;TZID=Europe/Budapest:20260113T163000
DTSTAMP:20260420T005507
CREATED:20260107T144928Z
LAST-MODIFIED:20260107T144928Z
UID:40928-1768320000-1768321800@relnet.hu
SUMMARY:Bevezetés a professzionális sérülékenységkezelésbe
DESCRIPTION:Az antivírus szoftverek és a tűzfalak önmagukban már nem nyújtanak elegendő védelmet. A Greenbone szakértői megmutatják\, hogyan azonosíthatja a biztonsági réseket még azelőtt\, hogy a támadók kihasználnák azokat\, és hogyan teheti intézkedéseit láthatóvá és mérhetővé. \nREGISZTRÁCIÓ\n\nIdőpont: 2026. január 13.\, kedd | 16:00–16:30 \nTémák: \n\nA Greenbone megközelítése\, portfóliója és szolgáltatásai.\nÚt a puszta szkenneléstől a hatékony biztonsági intézkedésekig.\nAz első lépések és a már bizonyított „best practice” megoldások.\n\nA webinárium révén Ön szilárd alapokat szerezhet a strukturált sérülékenységkezelés világában. \nFIGYELEM! A regisztrációs oldalon további 3 időpont is elérhető!
URL:https://relnet.hu/rendezveny/bevezetes-a-professzionalis-serulekenysegkezelesbe/
LOCATION:Virtuális rendezvény
CATEGORIES:Greenbone
ATTACH;FMTTYPE=image/jpeg:https://relnet.hu/wp-content/uploads/2026/01/GreenboneProfSerulekenyseg-min.jpg
END:VEVENT
END:VCALENDAR