BEGIN:VCALENDAR
VERSION:2.0
PRODID:-//RelNet Technológia Kft. - ECPv5.16.4//NONSGML v1.0//EN
CALSCALE:GREGORIAN
METHOD:PUBLISH
XXXXXXXXXXXXXXXXXXXXXXXXXXXXXXXXXXXXXX
XXXXXXXXXXXXXXXXXXXXXXXXXXXXXXXXX
XXXXXXXXXXXXXXXXXXXXXXXXXXXXXXXXXXXXXXXXXXXXXXXXX
BEGIN:VTIMEZONE
TZID:Europe/Budapest
BEGIN:DAYLIGHT
TZOFFSETFROM:+0100
TZOFFSETTO:+0200
TZNAME:CEST
DTSTART:20210328T010000
END:DAYLIGHT
BEGIN:STANDARD
TZOFFSETFROM:+0200
TZOFFSETTO:+0100
TZNAME:CET
DTSTART:20211031T010000
END:STANDARD
END:VTIMEZONE
BEGIN:VEVENT
DTSTART;TZID=Europe/Budapest:20210119T110000
DTEND;TZID=Europe/Budapest:20210119T120000
DTSTAMP:20260420T015155
CREATED:20201105T154805Z
LAST-MODIFIED:20210111T095905Z
UID:10499-1611054000-1611057600@relnet.hu
SUMMARY:Bot Manager technikai bemutató
DESCRIPTION:A teljes internetes forgalom 26%-át rossz botok generálják. Míg a jó botok segítenek felgyorsítani az üzleti folyamatokat\, például az adatgyűjtést és a döntéshozatalt\, a rossz robotok weboldalakat\, mobilalkalmazásokat és API-kat céloznak meg és az adatok ellopására és a szolgáltatás megzavarására törekednek. Sajnos a szervezetek 79%-a nem tud különbséget tenni jó és rossz robotok között… \nAz élő technikai webinárium során bemutatjuk\, hogy a Radware Bot Manager megoldása hogyan segíti a vállalkozásokat a rosszindulatú bot-tevékenységek felderítésében\, osztályozásában és orvoslásában. Csatlakozzon a webináriumhoz és ismerje meg hogyan tarthatja biztonságban szervezetét és irányíthatja a bot-okat! \nA mély technikai részeket tartalmazó webináriumon Lior Zamir\, a Radware Technical Account Manager-e élő bemutatót tart a Radware megoldásáról. \nJelentkezzen most! \n\n \nRadware Bot Manager technikai bemutató\nÉlő webinárium\nÚJ IDŐPONTBAN! \nKapcsolódó tartalom:\nBot Manager adatlap \nKapcsolódó esemény:\n2020. november 10. 9:30-10:30 Radware DDoS védelmi technikai bemutató \n2020. november 17. 9:30-10:30 Web Application Firewall élő technikai bemutató \nKapcsolódó képzés:\nRadware: A Radware története és megoldásai \nRadware: DDoS védelem a DefensePro-val \nKapcsolódó videó:\n \n 
URL:https://relnet.hu/rendezveny/bot-manager-technikai-bemutato/
LOCATION:Virtuális rendezvény
CATEGORIES:Radware,Végfelhasználó,Viszonteladó
ATTACH;FMTTYPE=image/jpeg:https://relnet.hu/wp-content/uploads/2020/11/3-min.jpg
END:VEVENT
END:VCALENDAR