BEGIN:VCALENDAR
VERSION:2.0
PRODID:-//RelNet Technológia Kft. - ECPv5.16.4//NONSGML v1.0//EN
CALSCALE:GREGORIAN
METHOD:PUBLISH
XXXXXXXXXXXXXXXXXXXXXXXXXXXXXXXXXXXXXX
XXXXXXXXXXXXXXXXXXXXXXXXXXXXXXXXX
XXXXXXXXXXXXXXXXXXXXXXXXXXXXXXXXXXXXXXXXXXXXXXXXX
BEGIN:VTIMEZONE
TZID:Europe/Budapest
BEGIN:DAYLIGHT
TZOFFSETFROM:+0100
TZOFFSETTO:+0200
TZNAME:CEST
DTSTART:20200329T010000
END:DAYLIGHT
BEGIN:STANDARD
TZOFFSETFROM:+0200
TZOFFSETTO:+0100
TZNAME:CET
DTSTART:20201025T010000
END:STANDARD
END:VTIMEZONE
BEGIN:VEVENT
DTSTART;TZID=Europe/Budapest:20200730T110000
DTEND;TZID=Europe/Budapest:20200730T120000
DTSTAMP:20260420T015511
CREATED:20200727T075322Z
LAST-MODIFIED:20200730T095510Z
UID:7571-1596106800-1596110400@relnet.hu
SUMMARY:Critical Insights & Control
DESCRIPTION:Csatlakozzon az Extreme Networks élő webináriumához\, hogy megismerje\, hogyan alakítható ki a létfontosságú átláthatóság és biztosítható az ellenőrzés a napjaink kihívásai miatt átalakuló munkakörnyezetek és munkamódszerek esetén az informatikai hálózatokban. \nA hálózati kapcsolatok kiterjedtsége exponenciálisan növekszik\, ami a teljesítmény szempontjából ellenőrizetlen területek („ vakfoltok”) kialakulását eredményezi és így új kihívások elé állítja a vállalati vezetőket. \nAz eszközpark folyamatosan változik\, a hálózatokat szenzorokkal és mobileszközökkel fokozott iramban bővítik a biztonságosabb környezet megteremtése érdekében. \nA felhőalapú\, a kommunikációs és az együttműködést elősegítő megoldások egyre inkább versenyeznek a sávszélességért a korábban is meglévő\, valamint az újonnan kialakított helyszíneken egyaránt. \nA kihívásoknak történő megfelelés érdekében azonban a hálózatban rejlő lehetőségeket fel lehet szabadítani\, sőt a mindenre kiterjedő átláthatóság és az elemezhetőség jó alapot teremtenek az üzleti döntések meghozatalához. \nJelentkezzen most!\n\n\nCritical Insights & Control: Handling Distributed Sites & Workforces in the New Normal\nÉlő webinárium\n2020. július 30. 11:00-12:00 \nTovábbi részletek\, regisztráció:\nREGISZTRÁCIÓ
URL:https://relnet.hu/rendezveny/critical-insights-control/
LOCATION:Virtuális rendezvény
CATEGORIES:Extreme Networks
ATTACH;FMTTYPE=image/png:https://relnet.hu/wp-content/uploads/2020/07/Head-1.png
END:VEVENT
END:VCALENDAR