BEGIN:VCALENDAR
VERSION:2.0
PRODID:-//RelNet Technológia Kft. - ECPv5.16.4//NONSGML v1.0//EN
CALSCALE:GREGORIAN
METHOD:PUBLISH
XXXXXXXXXXXXXXXXXXXXXXXXXXXXXXXXXXXXXX
XXXXXXXXXXXXXXXXXXXXXXXXXXXXXXXXX
XXXXXXXXXXXXXXXXXXXXXXXXXXXXXXXXXXXXXXXXXXXXXXXXX
BEGIN:VTIMEZONE
TZID:Europe/Budapest
BEGIN:DAYLIGHT
TZOFFSETFROM:+0100
TZOFFSETTO:+0200
TZNAME:CEST
DTSTART:20200329T010000
END:DAYLIGHT
BEGIN:STANDARD
TZOFFSETFROM:+0200
TZOFFSETTO:+0100
TZNAME:CET
DTSTART:20201025T010000
END:STANDARD
END:VTIMEZONE
BEGIN:VEVENT
DTSTART;TZID=Europe/Budapest:20200507T190000
DTEND;TZID=Europe/Budapest:20200507T194500
DTSTAMP:20260420T033422
CREATED:20200504T162100Z
LAST-MODIFIED:20200504T162100Z
UID:6320-1588878000-1588880700@relnet.hu
SUMMARY:Csatlakozzon a Garland Technology és az A10 webináriumához\, ahol szó lesz az adattitkosítással járó kockázatokról\, illetve ezek minimalizálásáról!
DESCRIPTION:Az internet forgalmának nagy része titkosítva van a magánélet\, a kereskedelem\, a kommunikáció biztosítása és az úton levő adatok védelmének érdekében\, azonban a titkosítással a hálózati forgalom láthatósága csökken. Az átláthatóság hiánya veszélyezteti a szervezeteket\, mivel a rossz fiúk kibertámadásokhoz és adatokhoz való hozzáféréshez használhatják fel a „titkosítás vakfoltját”. \nA webináriumon részletesen megismerhető: \n\nMit kell tenniük a szervezeteknek annak érdekében\, hogy az összes forgalmat hatékonyan ellenőrizzék még a legbonyolultabb környezetben is?\nA titkosítási megoldások helyzete napjainkban.\nHogyan veszélyeztetheti a titkosítás a szervezeteket?\nHogyan lehet a teljes forgalmat látni a maximális teljesítmény és az üzemidő fenntartása mellett?\n\nJelentkezzen most!\n\n\nThe threat you can’t see – TLS\, Cyberattacks and You\nWebinárium\n2020. május 7. 19:00-19:45 között \nREGISZTRÁCIÓ
URL:https://relnet.hu/rendezveny/csatlakozzon-a-garland-technology-es-az-a10-webinariumahoz-ahol-szo-lesz-az-adattitkositassal-jaro-kockazatokrol-illetve-ezek-minimalizalasarol/
LOCATION:Virtuális rendezvény
CATEGORIES:Garland Technology,Gyártó
ATTACH;FMTTYPE=image/png:https://relnet.hu/wp-content/uploads/2020/05/Garland1.png
END:VEVENT
END:VCALENDAR