BEGIN:VCALENDAR
VERSION:2.0
PRODID:-//RelNet Technológia Kft. - ECPv5.16.4//NONSGML v1.0//EN
CALSCALE:GREGORIAN
METHOD:PUBLISH
XXXXXXXXXXXXXXXXXXXXXXXXXXXXXXXXXXXXXX
XXXXXXXXXXXXXXXXXXXXXXXXXXXXXXXXX
XXXXXXXXXXXXXXXXXXXXXXXXXXXXXXXXXXXXXXXXXXXXXXXXX
BEGIN:VTIMEZONE
TZID:Europe/Budapest
BEGIN:DAYLIGHT
TZOFFSETFROM:+0100
TZOFFSETTO:+0200
TZNAME:CEST
DTSTART:20210328T010000
END:DAYLIGHT
BEGIN:STANDARD
TZOFFSETFROM:+0200
TZOFFSETTO:+0100
TZNAME:CET
DTSTART:20211031T010000
END:STANDARD
END:VTIMEZONE
BEGIN:VEVENT
DTSTART;TZID=Europe/Budapest:20210914T160000
DTEND;TZID=Europe/Budapest:20210914T170000
DTSTAMP:20260419T220318
CREATED:20210913T092602Z
LAST-MODIFIED:20210913T123443Z
UID:16940-1631635200-1631638800@relnet.hu
SUMMARY:Csatlakozzon a Garland Technology Tech User Group webináriumhoz!
DESCRIPTION:A Garland Technology Tech User Group eseményein közvetlenül a Garland technikai csapatától értesülhet a legfrissebb információkról. A webinárokon olyan témákról lesz szó\, mint az új termékek bevezetése\, funkciók bevezetése a firmware frissítések során\, tippek versenyképes és technológiai funkciókról\, termékbemutatók stb. \nA szeptemberi webináriumon a téma az inline bypass technológia: mi jelent ez\, mire használják\, és miért kell figyelembe venni bármely inline biztonsági eszköz telepítésekor. Ezenkívül megismerhetik az EdgeSafe Bypass TAP eszközöket\, a „szívverések” konfigurálását\, az aktív/aktív vagy aktív/készenléti HA esetek beállítását\, valamint a bypass TAP-on belüli szűrési lehetőségeket. \n  \nRegisztráljon most!\n  \nTudta? \n\nAz inline bypass TAP\, mint a Garland EdgeSafe Bypass TAP\, javítja a termelékenységet az ügyfelek számára a hálózati megbízhatóság és a csökkentett üzemeltetési költségek révén.\nAz inline bypass TAP-ok hibatűrő technológiát alkalmaznak annak biztosítására\, hogy a hálózati kapcsolat meghibásodás esetén is fennmaradjon.\nAz új EdgeSafe Bypass TAP-ok mostantól a szűrést is támogatják.\n\n\n\n  \nGarland Technology’s Tech User Group Webinar \n2021. szeptember 14.\, kedd\, 16:00 CEST \nREGISZTRÁCIÓ\n\n 
URL:https://relnet.hu/rendezveny/csatlakozzon-a-garland-technology-tech-user-group-webinariumhoz/
LOCATION:Virtuális rendezvény
CATEGORIES:Garland Technology
ATTACH;FMTTYPE=image/png:https://relnet.hu/wp-content/uploads/2021/09/Tech_User_Group-min-1.png
END:VEVENT
END:VCALENDAR