BEGIN:VCALENDAR
VERSION:2.0
PRODID:-//RelNet Technológia Kft. - ECPv5.16.4//NONSGML v1.0//EN
CALSCALE:GREGORIAN
METHOD:PUBLISH
XXXXXXXXXXXXXXXXXXXXXXXXXXXXXXXXXXXXXX
XXXXXXXXXXXXXXXXXXXXXXXXXXXXXXXXX
XXXXXXXXXXXXXXXXXXXXXXXXXXXXXXXXXXXXXXXXXXXXXXXXX
BEGIN:VTIMEZONE
TZID:Europe/Budapest
BEGIN:DAYLIGHT
TZOFFSETFROM:+0100
TZOFFSETTO:+0200
TZNAME:CEST
DTSTART:20240331T010000
END:DAYLIGHT
BEGIN:STANDARD
TZOFFSETFROM:+0200
TZOFFSETTO:+0100
TZNAME:CET
DTSTART:20241027T010000
END:STANDARD
END:VTIMEZONE
BEGIN:VEVENT
DTSTART;TZID=Europe/Budapest:20241127T140000
DTEND;TZID=Europe/Budapest:20241127T150000
DTSTAMP:20260423T004723
CREATED:20241126T075434Z
LAST-MODIFIED:20241126T075645Z
UID:35927-1732716000-1732719600@relnet.hu
SUMMARY:DevOps integráció a WALLIX PAM-mal - Webinárium
DESCRIPTION:Ismerje meg azokat a felhasználási eseteket\, amelyek megmutatják\, hogyan integrálódik a WALLIX PAM megoldása a DevOps és az IaC (Infrastructure as Code) rendszerekbe! Az integráció által fokozható a biztonság\, racionalizálhatók a munkafolyamatok és növelhető a működési hatékonyság. \nREGISZTRÁCIÓ\n\nIdőpont: 2024. november 27. (szerda) | 14:00-15:00 \nAz emeltszintű jogosultságok menedzsmentjének (PAM) integrálása a DevOps és az Infrastructure as Code (IaC) környezetekbe elengedhetetlen stratégia a biztonság és a hatékonyság eléréséhez. \nA webinárium témái: \n\nGyors telepítés: IaC-eszközök (pl. Ansible\, Terraform) használata a WALLIX PAM bevezetésének egyszerűsítése érdekében\nAutomatizált hozzáférés-kezeléssel egyszerűen méretezhetők és biztonságossá tehetők a telepítések\, az emelt szintű jogosultsági adatok veszélyeztetése nélkül\nTermelékenység: A projektek időtartama csökken\, miközben hatékonyabb üzemeltetési eredmények érhetők el\nSkálázhatóság: A növekvő infrastruktúrák egyszerű és biztonságos kezelése az IaC és a DevSecOps gyakorlatok segítségével\nFolyamatos megfelelés: Az automatizált folyamatok segítségével egyszerűbb az auditálás és a riportolás\n\n 
URL:https://relnet.hu/rendezveny/devops-integracio-a-wallix-pam-mal-webinarium/
LOCATION:Virtuális rendezvény
CATEGORIES:WALLIX
ATTACH;FMTTYPE=image/jpeg:https://relnet.hu/wp-content/uploads/2024/11/WallixDevopsPam-min.jpg
END:VEVENT
END:VCALENDAR