BEGIN:VCALENDAR
VERSION:2.0
PRODID:-//RelNet Technológia Kft. - ECPv5.16.4//NONSGML v1.0//EN
CALSCALE:GREGORIAN
METHOD:PUBLISH
XXXXXXXXXXXXXXXXXXXXXXXXXXXXXXXXXXXXXX
XXXXXXXXXXXXXXXXXXXXXXXXXXXXXXXXX
XXXXXXXXXXXXXXXXXXXXXXXXXXXXXXXXXXXXXXXXXXXXXXXXX
BEGIN:VTIMEZONE
TZID:Europe/Budapest
BEGIN:DAYLIGHT
TZOFFSETFROM:+0100
TZOFFSETTO:+0200
TZNAME:CEST
DTSTART:20190331T010000
END:DAYLIGHT
BEGIN:STANDARD
TZOFFSETFROM:+0200
TZOFFSETTO:+0100
TZNAME:CET
DTSTART:20191027T010000
END:STANDARD
END:VTIMEZONE
BEGIN:VEVENT
DTSTART;TZID=Europe/Budapest:20191204T170000
DTEND;TZID=Europe/Budapest:20191204T180000
DTSTAMP:20260419T230930
CREATED:20191204T111004Z
LAST-MODIFIED:20191204T111004Z
UID:4223-1575478800-1575482400@relnet.hu
SUMMARY:Dinamikus adatkezelés: Teljesítmény\, átláthatóság és irányítás a digitális átalakításhoz
DESCRIPTION:A strukturálatlan adatok növekedése és az alkalmazások szaporodása összetettséget és költséget eredményez. A digitális korban az előretekintő szervezeteknek olyan igényekhez kell alkalmazkodniuk\, amelyek elvárják a felhőszerű agilitást\, a gyorsabb és a jobb szolgáltatási szinteket\, és a kockázatok kezelését. \nÚj adatkezelési architektúrákra van szükség az innováció előmozdításához\, valamint az új alkalmazások fejlesztésének\, bevezetésének és gyors\, rugalmas megvalósításának lehetővé tételéhez.  \nA kihívás leküzdése érdekében a Hitachi Vantara és a Pulse Secure referencia-architektúrát hoz létre az integrált\, alkalmazás-tudatos digitális tartalomplatformokra\, és a skálázható agilis tárolást ötvözi a bevált szoftver-alapú megoldásokkal\, hogy támogassa a tárgyak internete (IoT)\, a gépi tanulás\, a felhő és az egyéni alkalmazások által generált hatalmas adatnövekedést és a méretezhetőséget is. \nCsatlakozzon a Pulse Secure webináriumához\, mely főbb témái a következők lesznek: \n• Miért vált az objektum-alapú tárolás fejlődése a digitális átalakítás hajtóerejévé? \n• Hogyan lehet egyszerűsíteni és automatizálni a policy alapú adatmozgást a felhős környezetek között \n• Lehetőségek a költségek és a működési hatékonyság optimalizálására egyetlen ellenőrzőponttal és közös felülettel \n• Hogyan kezelhető az IoT\, a gépi tanulás\, a felhő és az egyedi alkalmazások által generált adatnövekedés \n\n \nJelentkezzen most! \nAgile Data Management: Performance\, Visibility and Control for Digital Transformation \nWebinárium\n2019. december 4. 17:00 CET \nNem tud részt venni a webináriumon\, de érdekli a téma? Regisztráljon mindenképpen\, és a Pulse Secure elküldi a rögzített előadás linkjét! \nREGISZTRÁCIÓ
URL:https://relnet.hu/rendezveny/dinamikus-adatkezeles-teljesitmeny-atlathatosag-es-iranyitas-a-digitalis-atalakitashoz/
CATEGORIES:Gyártó,Pulse Secure,Végfelhasználó,Viszonteladó,Webinárium
ATTACH;FMTTYPE=image/png:https://relnet.hu/wp-content/uploads/2019/12/Webinar-1.png
END:VEVENT
END:VCALENDAR