BEGIN:VCALENDAR
VERSION:2.0
PRODID:-//RelNet Technológia Kft. - ECPv5.16.4//NONSGML v1.0//EN
CALSCALE:GREGORIAN
METHOD:PUBLISH
XXXXXXXXXXXXXXXXXXXXXXXXXXXXXXXXXXXXXX
XXXXXXXXXXXXXXXXXXXXXXXXXXXXXXXXX
XXXXXXXXXXXXXXXXXXXXXXXXXXXXXXXXXXXXXXXXXXXXXXXXX
BEGIN:VTIMEZONE
TZID:Europe/Budapest
BEGIN:DAYLIGHT
TZOFFSETFROM:+0100
TZOFFSETTO:+0200
TZNAME:CEST
DTSTART:20250330T010000
END:DAYLIGHT
BEGIN:STANDARD
TZOFFSETFROM:+0200
TZOFFSETTO:+0100
TZNAME:CET
DTSTART:20251026T010000
END:STANDARD
END:VTIMEZONE
BEGIN:VEVENT
DTSTART;TZID=Europe/Budapest:20250225T150000
DTEND;TZID=Europe/Budapest:20250225T154500
DTSTAMP:20260420T031640
CREATED:20250217T131601Z
LAST-MODIFIED:20250218T074429Z
UID:36870-1740495600-1740498300@relnet.hu
SUMMARY:Egyszerűbb fenyegetésészlelés a Progress Flowmonnal a NIS2-megfelelőség érdekében
DESCRIPTION:Ez a 45 perces webinárium mélyreható ismereteket nyújt a NIS2 irányelvről\, és feltárja\, hogy a Progress Flowmon hálózati észlelési és válaszadási (NDR) megoldása hogyan egyszerűsítheti a megfelelőségi erőfeszítéseket. Regisztráljon most! \nREGISZTRÁCIÓ\n\nIdőpont: 2025. február 25. (kedd) | 15:00-15:45 \nA NIS2 irányelv megértése összetett folyamat\, pedig a megfelelés létfontosságú a szervezetek számára. Ez a webinárium feltárja a NIS2 legfontosabb aspektusait\, és bemutatja\, hogy a Progress Flowmon robusztus NDR megoldása hogyan segíthet megfelelni a követelményeknek\, miközben erősíti a kiberbiztonságot. \nSzó lesz a NIS2 hatásairól\, a kiberbiztonság erősítésének fontosságáról\, és arról\, hogy a Flowmon hogyan egyszerűsíti a megfelelést fejlett NDR képességeivel. \nTémák: \n\nMilyen hatással lesz a NIS2 a szervezetekre?\nMiért kritikus a NIS2 az Ön szervezete számára?\nMiért kell a szervezeteknek korszerűsíteniük kiberbiztonsági infrastruktúrájukat?\nHogyan egyszerűsíthető a megfelelés a Flowmon hálózati észlelési képességeivel?\nMelyek a kiberbiztonsági törvény kulcsfontosságú területei?\nKockázatkezelés\, hálózati biztonság\, incidensek jelentése
URL:https://relnet.hu/rendezveny/egyszerubb-fenyegeteseszleles-a-progress-flowmonnal-a-nis2-megfeleloseg-erdekeben/
LOCATION:Virtuális rendezvény
CATEGORIES:Flowmon
ATTACH;FMTTYPE=image/jpeg:https://relnet.hu/wp-content/uploads/2025/02/ProgressNis2Webinar-min.jpg
END:VEVENT
END:VCALENDAR