BEGIN:VCALENDAR
VERSION:2.0
PRODID:-//RelNet Technológia Kft. - ECPv5.16.4//NONSGML v1.0//EN
CALSCALE:GREGORIAN
METHOD:PUBLISH
XXXXXXXXXXXXXXXXXXXXXXXXXXXXXXXXXXXXXX
XXXXXXXXXXXXXXXXXXXXXXXXXXXXXXXXX
XXXXXXXXXXXXXXXXXXXXXXXXXXXXXXXXXXXXXXXXXXXXXXXXX
BEGIN:VTIMEZONE
TZID:Europe/Budapest
BEGIN:DAYLIGHT
TZOFFSETFROM:+0100
TZOFFSETTO:+0200
TZNAME:CEST
DTSTART:20200329T010000
END:DAYLIGHT
BEGIN:STANDARD
TZOFFSETFROM:+0200
TZOFFSETTO:+0100
TZNAME:CET
DTSTART:20201025T010000
END:STANDARD
END:VTIMEZONE
BEGIN:VEVENT
DTSTART;TZID=Europe/Budapest:20200526T140000
DTEND;TZID=Europe/Budapest:20200526T150000
DTSTAMP:20260420T022040
CREATED:20200518T144126Z
LAST-MODIFIED:20200518T144126Z
UID:6536-1590501600-1590505200@relnet.hu
SUMMARY:Élő bemutató - Fedezze fel az Acronis Cyber Backup előnyeit!
DESCRIPTION:Csak egy olyan kibervédelmi megoldás érhető el a piacon\, amely egyidejűleg biztosítja az adatok biztonságát\, elérhetőségét\, adatvédelmét és hitelességét. A 100 legnagyobb vállalkozás közül 79 ezért választotta az Acronis Cyber Backup-ot. \nNézze meg az Acronis Cyber Backup-ot élőben\, működés közben! \nAz online szeminárium részletesen felkészíti Önt az ügyfelei támogatására és a felhő alapú biztonsági mentés sikeres megvalósítására. \nTematika:\nIsmerje meg\, hogyan \n\nvalósítható meg bármely munkamenet teljes védelme\,\nhasználhatja ki proaktívan a csúcstechnológia (MI) kínálta lehetőségeket\,\nbiztosítható teljes körűen az adatok integritása.\n\nElőadó: Markus Bauer\, Partner Technology Evangelist \nJelentkezzen most!\n\n\nLive Demo – Discover the Advantages of Acronis Cyber Backup\nAcronis webinárium\n2020. május 26. | 14:00 – 15:00 CEST \nREGISZTRÁCIÓ
URL:https://relnet.hu/rendezveny/elo-bemutato-fedezze-fel-az-acronis-cyber-backup-elonyeit/
LOCATION:Virtuális rendezvény
CATEGORIES:Acronis,Acronis Backup 12.5,Backup,Cyber Protection,Gyártó,Mesterséges intelligencia
ATTACH;FMTTYPE=image/png:https://relnet.hu/wp-content/uploads/2020/05/1-4.png
END:VEVENT
END:VCALENDAR