BEGIN:VCALENDAR
VERSION:2.0
PRODID:-//RelNet Technológia Kft. - ECPv5.16.4//NONSGML v1.0//EN
CALSCALE:GREGORIAN
METHOD:PUBLISH
XXXXXXXXXXXXXXXXXXXXXXXXXXXXXXXXXXXXXX
XXXXXXXXXXXXXXXXXXXXXXXXXXXXXXXXX
XXXXXXXXXXXXXXXXXXXXXXXXXXXXXXXXXXXXXXXXXXXXXXXXX
BEGIN:VTIMEZONE
TZID:Europe/Budapest
BEGIN:DAYLIGHT
TZOFFSETFROM:+0100
TZOFFSETTO:+0200
TZNAME:CEST
DTSTART:20190331T010000
END:DAYLIGHT
BEGIN:STANDARD
TZOFFSETFROM:+0200
TZOFFSETTO:+0100
TZNAME:CET
DTSTART:20191027T010000
END:STANDARD
END:VTIMEZONE
BEGIN:VEVENT
DTSTART;TZID=Europe/Budapest:20190205T190000
DTEND;TZID=Europe/Budapest:20190205T200000
DTSTAMP:20260422T145033
CREATED:20190131T102731Z
LAST-MODIFIED:20190312T115819Z
UID:1451-1549393200-1549396800@relnet.hu
SUMMARY:Enable True Zero Trust for Hybrid IT webinárium
DESCRIPTION:Csatlakozzon a Pulse Secure „Enable True Zero Trust for Hybrid IT” webináriumához és ismerje meg\, hogyan képes a Zero Trust valós biztonságos hozzáférést biztosítani a mai hibrid informatikai környezetekben. Az adatokkal való visszaélés által okozott károk\, a kifinomult rosszindulatú szoftverek elterjedtsége és a felhasználók igénye arra\, hogy bárhonnan és bármikor hozzáférjenek a vállalat erőforrásaihoz részletes hozzáférésellenőrzési mechanizmusok felállítását teszik szükségessé az adatvesztés és adatszivárgás megelőzése érdekében. \nA webinárium főbb témái a következők lesznek: \n\nVédekezési módszerek és felhasználási esetek\, amelyek bemutatják\, hogy a vállalatok miként védik informatikai környezetüket\nHogyan növelhető az információbiztonság és a belső szabályozásnak való megfelelőség a biztonságos hozzáférési megoldások segítségével?\nMerre haladnak a fejlesztések? Kitekintés a 2019-es és jövőbeli technológiákra\, amelyekkel megerősítheti vállalata biztonsági profilját.\n\n\n\nA webinárium angol nyelvű és a gyártó oldalán lehet rá regisztrálni. \nA webinárium időpontja: \nENABLE TRUE ZERO TRUST FOR HYBRID IT\n2019. február 5.\, kedd\n19:00 (CET) órakor \nREGISZTRÁCIÓ
URL:https://relnet.hu/rendezveny/enable-true-zero-trust-for-hybrid-it-webinarium/
CATEGORIES:Gyártó,Pulse Secure,Webinárium
ATTACH;FMTTYPE=image/jpeg:https://relnet.hu/wp-content/uploads/2019/01/Webinar-Pulse-_1-scaled.jpg
END:VEVENT
END:VCALENDAR