BEGIN:VCALENDAR
VERSION:2.0
PRODID:-//RelNet Technológia Kft. - ECPv5.16.4//NONSGML v1.0//EN
CALSCALE:GREGORIAN
METHOD:PUBLISH
XXXXXXXXXXXXXXXXXXXXXXXXXXXXXXXXXXXXXX
XXXXXXXXXXXXXXXXXXXXXXXXXXXXXXXXX
XXXXXXXXXXXXXXXXXXXXXXXXXXXXXXXXXXXXXXXXXXXXXXXXX
BEGIN:VTIMEZONE
TZID:Europe/Budapest
BEGIN:DAYLIGHT
TZOFFSETFROM:+0100
TZOFFSETTO:+0200
TZNAME:CEST
DTSTART:20250330T010000
END:DAYLIGHT
BEGIN:STANDARD
TZOFFSETFROM:+0200
TZOFFSETTO:+0100
TZNAME:CET
DTSTART:20251026T010000
END:STANDARD
END:VTIMEZONE
BEGIN:VEVENT
DTSTART;TZID=Europe/Budapest:20250429T083000
DTEND;TZID=Europe/Budapest:20250429T160000
DTSTAMP:20260420T032559
CREATED:20250407T131646Z
LAST-MODIFIED:20250425T085651Z
UID:37581-1745915400-1745942400@relnet.hu
SUMMARY:Exabeam Partner Workshop Kiemelt esemény MSSP partnereknek és SOC-elemzőknek
DESCRIPTION:Ezúton meghívjuk Önt az Exabeam Partner Workshopra\, ahol első kézből ismerheti meg a gyártó legújabb fejlesztéseit. Az esemény célja\, hogy technikai mélységben bemutassuk az Exabeam megoldásait\, valamint lehetőséget biztosítsunk közvetlen párbeszédre a gyártó szakértőivel. \nProgram: \n\n\n\nIdőpont\nTéma\nElőadó\n\n\n\n\n09:00 – 09:15\nKöszöntő\, program áttekintése\nBorbély Sándor\n\n\n09:15 – 10:00\nExabeam vízió és roadmap\nLars Drewianka\n\n\n10:00 – 10:45\nÚj funkciók – Fusion XDR\, MI alapú fenyegetésvadászat\nKevin Breuer\n\n\n10:45 – 11:00\n☕ Kávészünet\n\n\n\n11:00 – 12:00\nTechnikai demó: Incidenskezelés és automatizálás\nKevin Breuer\n\n\n12:00 – 13:00\n🍽 Ebéd\n\n\n\n13:00 – 14:00\nHands-on Lab: CTF forgatókönyv\nKevin Breuer\n\n\n14:00 – 14:30\nRegionális esettanulmány bemutatása\nExabeam – TBD\n\n\n14:30 – 15:30\nPartneri lehetőségek és üzleti motiváció\nLars Drewianka\n\n\n15:30 – 16:00\nKérdések és válaszok\, majd networking\nMinden előadó\n\n\n\n💡 Miért érdemes részt venni? \n\nExkluzív technikai tartalom – csak meghívott partnereknek\nHands-on lab és PoV forgatókönyv bemutató\nKözvetlen kapcsolatfelvétel a gyártó nemzetközi csapatával\nHálózatépítési lehetőség hazai MSSP szakemberekkel
URL:https://relnet.hu/rendezveny/exabeam-partner-workshop-kiemelt-esemeny-mssp-partnereknek-es-soc-elemzoknek/
LOCATION:RelNet konferencia terem\, Váci út 71.\, Budapest\, 1047\, Magyarország
CATEGORIES:Exabeam,Végfelhasználó,Viszonteladó
ATTACH;FMTTYPE=image/jpeg:https://relnet.hu/wp-content/uploads/2025/04/ExabeamKiemeletWorkshop2025-min.jpg
GEO:47.572774139773;19.081058942328
X-APPLE-STRUCTURED-LOCATION;VALUE=URI;X-ADDRESS=RelNet konferencia terem Váci út 71. Budapest 1047 Magyarország;X-APPLE-RADIUS=500;X-TITLE=Váci út 71.:geo:19.081058942328,47.572774139773
END:VEVENT
END:VCALENDAR