BEGIN:VCALENDAR
VERSION:2.0
PRODID:-//RelNet Technológia Kft. - ECPv5.16.4//NONSGML v1.0//EN
CALSCALE:GREGORIAN
METHOD:PUBLISH
XXXXXXXXXXXXXXXXXXXXXXXXXXXXXXXXXXXXXX
XXXXXXXXXXXXXXXXXXXXXXXXXXXXXXXXX
XXXXXXXXXXXXXXXXXXXXXXXXXXXXXXXXXXXXXXXXXXXXXXXXX
BEGIN:VTIMEZONE
TZID:Europe/Budapest
BEGIN:DAYLIGHT
TZOFFSETFROM:+0100
TZOFFSETTO:+0200
TZNAME:CEST
DTSTART:20260329T010000
END:DAYLIGHT
BEGIN:STANDARD
TZOFFSETFROM:+0200
TZOFFSETTO:+0100
TZNAME:CET
DTSTART:20261025T010000
END:STANDARD
END:VTIMEZONE
BEGIN:VEVENT
DTSTART;TZID=Europe/Budapest:20260127T180000
DTEND;TZID=Europe/Budapest:20260127T190000
DTSTAMP:20260422T133725
CREATED:20260113T130341Z
LAST-MODIFIED:20260113T130542Z
UID:40964-1769536800-1769540400@relnet.hu
SUMMARY:ExtraHop webinárium – Az oldalirányú mozgás észlelése titkosított forgalomban
DESCRIPTION:A zéró késleltetésű dekódolás és a hálózati protokollok elemzése révén azonosíthatja azokat a szokatlan viselkedési mintákat\, amelyek lopott hitelesítő adatokra és aktív támadókra utalnak. \nREGISZTRÁCIÓ\n\nIdőpont: 2026. január 27. (kedd) | 18:00–19:00 \nA széles körben elterjedt titkosítás szinte lehetetlenné teszi a hálózaton belüli\, úgynevezett laterális mozgások észlelését. Ez a webinárium bemutatja\, hogyan fejthető vissza a forgalom késleltetés nélkül\, lehetővé téve a támadások gyors leállítását mind a helyszíni\, mind a felhős környezetekben. \nA mai támadók már nem „feltörik” a rendszereket\, hanem belépnek a hálózatba lopott vagy online vásárolt hitelesítő adatokkal. Miután bejutottak\, titkosított csatornákat és legitim eszközöket használnak\, hogy észrevétlenül terjeszkedjenek a hibrid infrastruktúrákon. \nTémák: \n\nA peremvédelem vége: A tömeges jelszólopások miatt a hagyományos peremvédelmi eszközök hatékonysága drasztikusan csökkent.\nTitkosítási sötétség: A kritikus protokollok (HTTPS\, TLS\, LDAP\, DNS\, NTLM\, SMBv3\, MS-RPC\, WSMAN) széles körű titkosítása egyfajta „fekete dobozt” hoz létre minden kapcsolathoz\, így a rejtőzködő támadók mozgása szinte láthatatlan marad.\nVisszafejtés és védelem: Csak a hálózati forgalomra támaszkodó eszközök (mint az ExtraHop NDR) képesek a forgalom visszafejtésére és elemzésére extra késleltetés vagy kockázat nélkül. Ez példátlan láthatóságot biztosít a kártékony tevékenységek azonosításához.
URL:https://relnet.hu/rendezveny/extrahop-webinarium-az-oldaliranyu-mozgas-eszlelese-titkositott-forgalomban/
LOCATION:Virtuális rendezvény
CATEGORIES:ExtraHop,Webinárium
ATTACH;FMTTYPE=image/png:https://relnet.hu/wp-content/uploads/2026/01/extrahop-lateral-1.png
END:VEVENT
END:VCALENDAR