BEGIN:VCALENDAR
VERSION:2.0
PRODID:-//RelNet Technológia Kft. - ECPv5.16.4//NONSGML v1.0//EN
CALSCALE:GREGORIAN
METHOD:PUBLISH
XXXXXXXXXXXXXXXXXXXXXXXXXXXXXXXXXXXXXX
XXXXXXXXXXXXXXXXXXXXXXXXXXXXXXXXX
XXXXXXXXXXXXXXXXXXXXXXXXXXXXXXXXXXXXXXXXXXXXXXXXX
BEGIN:VTIMEZONE
TZID:Europe/Budapest
BEGIN:DAYLIGHT
TZOFFSETFROM:+0100
TZOFFSETTO:+0200
TZNAME:CEST
DTSTART:20200329T010000
END:DAYLIGHT
BEGIN:STANDARD
TZOFFSETFROM:+0200
TZOFFSETTO:+0100
TZNAME:CET
DTSTART:20201025T010000
END:STANDARD
END:VTIMEZONE
BEGIN:VEVENT
DTSTART;TZID=Europe/Budapest:20200217T090000
DTEND;TZID=Europe/Budapest:20200221T170000
DTSTAMP:20260420T005331
CREATED:20200121T094345Z
LAST-MODIFIED:20200123T140903Z
UID:4619-1581930000-1582304400@relnet.hu
SUMMARY:Extreme Certified Specialist: ECS – Data Center – SLX tréning
DESCRIPTION:2020. február 17-21. között ötnapos “Extreme Certified Specialist” tréninget tartunk. \nAz oktatás mélyreható ismereteket nyújt az Extreme SLX termékcsaládról és arról\, hogy miként használják egy nagyvállalati hálózatban. \nA tanfolyam kitér az Extreme SLX termékek konfigurálásának\, üzemeltetésének és karbantartásának alapvető kompetenciáira\, illetve az IP Fabric konfigurálását és megvalósítását is magában foglalja. \nA képzés vizsgával zárul\, mely után a sikeresen vizsgázók Extreme Certified Specialist: ECS – Data Center – SLX bizonyítványt kapnak. \nElőfeltételek: \nA hálózati protokollok és megvalósításuk gyakorlati ismerete \nRészletes tematika: \nCourse Introduction \nSLX Products Overview \nSLX Architecture \n\nSLX Architecture\nSLX Hardware\nOS Architecture\n\nSLX Use Cases \n\nDeployment Scenarios\nSpine and Leaf\nCase study\n\nEssentials and Administration \n\nAccess\nSystem Configuration\nSNMP and NTP etc.\n\nFirmware Upgrades \n\nSoftware Image Download\nUpgrading Process\nConfig Backup\nBest Practices\n\nL2 Forwarding \n\nL2 Frame forwarding\nL2 Redundancy\nPacket flow\n\nVLAN and Port Configuration \n\nVLAN Configuration\nEdge Port Configuration\nTrunk Port Configuration\n\nLACP and LLDP Configuration \n\nLink Aggregation\nLACP Configuration\nLLDP Configuration\n\nProtocol Independent Routing \n\nStatic Routes Configuration\nAggregate Routes Configuration\nDefault Routes\n\nConfiguring IP Fabrics \n\nIP Fabric\nConfiguring IP Fabrics\nMonitoring Commands\n\nAdvanced Configuration of IGP’s \n\nConfiguring OSPF\nMonitoring of OSPF\nOSPF Scalability\nMulti Area OSPF\nAdvanced features of OSPF\n\nAdvanced Configuration of BGP \n\nConfiguring BGP\nBGP Route selection\nBGP Attributes\nBGP Route advertisements\n\nConfiguration of MPLS \n\nMPLS Signalling Protocols\nMPLS Tunnel establishment\nMPLS Label Distribution\nMPLS tunnel configuration\nMPLS troubleshooting commands\n\nMPLS Traffic Engineering \n\nRSVP\nTraffic Engineering\nConfiguration\nMonitoring and troubleshooting\n\nACLs and Security \n\nACLs\nConfiguring ACLs\nACL filtering\n\nsFlow \n\nConfiguring sFLOW\nMonitoring\n\nSLX Analytics \nSLX Applications \nBasic Troubleshooting \nA tanfolyam viszonteladóknak szól\, kérje\, ajánlatunkat kereskedőinktől!\nA férőhelyek száma korlátozott\, a regisztrációt a jelentkezés sorrendjében tudjuk elfogadni! \nAz előadások angol nyelvűek. \nA képzés minden nap 9:00-tól 17:00-ig tart.\nIdőpont: 2020. február 17-21.\nHelyszín: Az oktatás helyszíne a RelNet oktatóterme.\nCím: 1047 Budapest\, Váci út 71. – Az épület és az udvar bejárata is a Perényi Zsigmond utcáról nyílik.\nParkolás: Díjmentes a belső udvaron és a környező utcákban is. \nJelentkezzen most!
URL:https://relnet.hu/rendezveny/extreme-certified-specialist-ecs-data-center-slx/
LOCATION:RelNet konferencia terem\, Váci út 71.\, Budapest\, 1047\, Magyarország
CATEGORIES:Extreme Networks,Gyártó,Oktatás,RelNet,Viszonteladó
ATTACH;FMTTYPE=image/png:https://relnet.hu/wp-content/uploads/2020/01/ECST_ECS_DC_SLX-1.png
GEO:47.572774139773;19.081058942328
X-APPLE-STRUCTURED-LOCATION;VALUE=URI;X-ADDRESS=RelNet konferencia terem Váci út 71. Budapest 1047 Magyarország;X-APPLE-RADIUS=500;X-TITLE=Váci út 71.:geo:19.081058942328,47.572774139773
END:VEVENT
END:VCALENDAR