BEGIN:VCALENDAR
VERSION:2.0
PRODID:-//RelNet Technológia Kft. - ECPv5.16.4//NONSGML v1.0//EN
CALSCALE:GREGORIAN
METHOD:PUBLISH
XXXXXXXXXXXXXXXXXXXXXXXXXXXXXXXXXXXXXX
XXXXXXXXXXXXXXXXXXXXXXXXXXXXXXXXX
XXXXXXXXXXXXXXXXXXXXXXXXXXXXXXXXXXXXXXXXXXXXXXXXX
BEGIN:VTIMEZONE
TZID:Europe/Budapest
BEGIN:DAYLIGHT
TZOFFSETFROM:+0100
TZOFFSETTO:+0200
TZNAME:CEST
DTSTART:20200329T010000
END:DAYLIGHT
BEGIN:STANDARD
TZOFFSETFROM:+0200
TZOFFSETTO:+0100
TZNAME:CET
DTSTART:20201025T010000
END:STANDARD
END:VTIMEZONE
BEGIN:VEVENT
DTSTART;TZID=Europe/Budapest:20200916T100000
DTEND;TZID=Europe/Budapest:20200917T150000
DTSTAMP:20260420T021700
CREATED:20200203T142619Z
LAST-MODIFIED:20200907T141347Z
UID:4800-1600250400-1600354800@relnet.hu
SUMMARY:Extreme Connect 2020 - Virtuális Konferencia
DESCRIPTION:Miután a COVID-19 okozta helyzet miatt az Extreme Networks kénytelen volt lemondani az eredetileg szeptember 14-17-re tervezett berlini Extreme Connect Europe 2020 konferenciát\, Norman Rice (Chief Operating Officer) arról tájékoztatta az Extreme partnereket\, hogy az elmaradt esemény helyett\, 2020. szeptember 16-17-én Virtuális Extrem Connect konferencia lesz\, továbbá jövőre 2021. szeptember 13-16-án visszatér a rendezvény Berlinbe. \nMinden eddiginél fontosabb\, hogy az Extreme Networks közössége kihasználja a technológia által nyújtott előnyöket\, és általuk fejlődhessen tovább. A cél egy olyan hálózat létrehozása\, amely zökkenőmentes felhasználói élményt kínál\, függetlenül attól\, hogy fizikailag hol helyezkedik egy cég és annak dolgozói. E gondolatok mentén kerül megrendezésre ez a globális\, virtuális esemény\, amelyen az irányt meghatározó előadásokat követően szó esik a legújabb fejlesztésekről és a várható portfolió-változásokról\, lesznek technikai termékbemutatók és fórumok\, valamint egyéb érdekességek mindez interaktív online formában. \nA konferencia programja négy sávra lesz bontva: \n\nAz új norma\, amely elsősorban a változó és megváltozott hálózati megközelítésről szól\, mint pl. a wi-fi jövője\, vagy a digitális átalakulás\nInnováció\, amely az felhőarchitektúrák fejlesztését és a zökkenőmentes hálózati elérést és ezek üzleti hatásait foglalja magába\nIT warrior\, ahol az adatközpont ökoszisztémákról\, a felhőről\, és a nélkülözhetetlen alkalmazások előnyeiről esik szó\nDemók\, ahol technikai bemutatók szemléltetik többek között a távoli hozzáférést\, vagy az EXOS & WING funkcionalitást az Extreme Cloud IQ-ban\n\n\nRészletes leírás és napirend ezen a linken található. \nAhhoz\, hogy egy cég sikeres legyen a megváltozott világban\, szükségszerű a nagyobb folytonosság\, az informatikai biztonság\, a rendszerek átláthatósága és irányíthatósága érdekében lépéseket tenni. Ehhez kínál ötleteket és segítséget a Virtuális Extreme Connect konferencia. \nRegisztráljon még ma!\nREGISZTRÁCIÓ
URL:https://relnet.hu/rendezveny/extreme-connect-2020/
LOCATION:Virtuális rendezvény
CATEGORIES:Extreme Networks,Rendezvény,Végfelhasználó,Viszonteladó
ATTACH;FMTTYPE=image/png:https://relnet.hu/wp-content/uploads/2020/02/Connect-2020_v1.png
END:VEVENT
END:VCALENDAR