BEGIN:VCALENDAR
VERSION:2.0
PRODID:-//RelNet Technológia Kft. - ECPv5.16.4//NONSGML v1.0//EN
CALSCALE:GREGORIAN
METHOD:PUBLISH
XXXXXXXXXXXXXXXXXXXXXXXXXXXXXXXXXXXXXX
XXXXXXXXXXXXXXXXXXXXXXXXXXXXXXXXX
XXXXXXXXXXXXXXXXXXXXXXXXXXXXXXXXXXXXXXXXXXXXXXXXX
BEGIN:VTIMEZONE
TZID:Europe/Budapest
BEGIN:DAYLIGHT
TZOFFSETFROM:+0100
TZOFFSETTO:+0200
TZNAME:CEST
DTSTART:20210328T010000
END:DAYLIGHT
BEGIN:STANDARD
TZOFFSETFROM:+0200
TZOFFSETTO:+0100
TZNAME:CET
DTSTART:20211031T010000
END:STANDARD
END:VTIMEZONE
BEGIN:VEVENT
DTSTART;TZID=Europe/Budapest:20210526T110000
DTEND;TZID=Europe/Budapest:20210526T150000
DTSTAMP:20260419T220206
CREATED:20210423T093655Z
LAST-MODIFIED:20210512T072020Z
UID:14854-1622026800-1622041200@relnet.hu
SUMMARY:Extreme Connect Virtual 2021
DESCRIPTION:Ez év májusában is Extreme Connect Virtual!\nAz Extreme Networks idén is megrendezi online konferenciáját\, az Extreme Connect Virtual-t\, melyre az integrátorok mellett végfelhasználókat is vár.\nA rendezvény rövid előadásokkal kezdődik szerdán\, május 26-án\, majd még aznap és május 27-én is részletes termékbemutatókkal és workshopokkal folytatódik. \nKészüljön fel a hálózati technológia legújabb kihívásaira! Fejlessze tovább ismereteit és reakciókészségét! \nRegisztráljon Ön is a kétnapos élő konferenciára\, hogy exkluzív betekintést nyerhessen az Extreme Networks 2021-es fejlesztéseibe és további terveibe!\nA program:\nMájus 26.\n11:00 – 12:00 CET Bevezető előadások\n12:00 – 15:00 CET Workshopok és élő termékbemutatók\nMájus 27.\n12:00 – 15:00 CET Workshopok és élő termékbemutatók \nA regisztráció és a részvétel ingyenes! \nA rendezvénnyel kapcsolatos legfrissebb információk a https://connect.extremenetworks.com/ oldalon követhetők nyomon. \n  \n\n\nExtreme Connect Virtual 2021\n2021. május 26-27. 11:00-15:00 CET \nMentse el a dátumot naptárába! A regisztráció hamarosan indul… \n  \nREGISZTRÁCIÓ\n\n\nKapcsolódó tartalom:\nA 2020-as Extreme Connect előadásainak\, termékdemóinak\, workshopjainak a videói itt találhatók. 
URL:https://relnet.hu/rendezveny/extreme-connect-virtual-2021/2021-05-26/
LOCATION:Virtuális rendezvény
CATEGORIES:Extreme Networks
ATTACH;FMTTYPE=image/jpeg:https://relnet.hu/wp-content/uploads/2021/04/Extreme_Connect_Virtual_2-min.jpg
END:VEVENT
END:VCALENDAR