BEGIN:VCALENDAR
VERSION:2.0
PRODID:-//RelNet Technológia Kft. - ECPv5.16.4//NONSGML v1.0//EN
CALSCALE:GREGORIAN
METHOD:PUBLISH
XXXXXXXXXXXXXXXXXXXXXXXXXXXXXXXXXXXXXX
XXXXXXXXXXXXXXXXXXXXXXXXXXXXXXXXX
XXXXXXXXXXXXXXXXXXXXXXXXXXXXXXXXXXXXXXXXXXXXXXXXX
BEGIN:VTIMEZONE
TZID:Europe/Budapest
BEGIN:DAYLIGHT
TZOFFSETFROM:+0100
TZOFFSETTO:+0200
TZNAME:CEST
DTSTART:20240331T010000
END:DAYLIGHT
BEGIN:STANDARD
TZOFFSETFROM:+0200
TZOFFSETTO:+0100
TZNAME:CET
DTSTART:20241027T010000
END:STANDARD
END:VTIMEZONE
BEGIN:VEVENT
DTSTART;TZID=Europe/Budapest:20240917T160000
DTEND;TZID=Europe/Budapest:20240917T170000
DTSTAMP:20260419T220359
CREATED:20240821T082910Z
LAST-MODIFIED:20240821T082910Z
UID:34643-1726588800-1726592400@relnet.hu
SUMMARY:Extreme Networks Partner Sales Play\, 2. rész
DESCRIPTION:Csatlakozzon az Extreme Networks partneri webináriumának második részéhez! A gyártó szakértői a biztonságos hálózati architektúráról (Network Fabric) adnak elő. \nREGISZTRÁCIÓ\n\nA rendszerintegrátor ügyfeleknek a közepes vagy nagyméretű\, elosztott hálózatok méretezésének kihívásaival kell szembenézniük\, miközben a biztonságot is garantálniuk kell ezeken az infrastruktúrákon. \nTémák: \n\nHogyan egységesíti\, automatizálja és teszi biztonságossá a hálózatot a megfelelő „fabric” megoldás\nExtreme Fabric értékesítési eszközök és módszerek az üzletkötés hatékonyságának növeléséhez\n\nIdőpont: 2024. szeptember 17. (kedd) | 16:00
URL:https://relnet.hu/rendezveny/extreme-networks-partner-sales-play-2-resz/
LOCATION:Virtuális rendezvény
CATEGORIES:Extreme Networks
ATTACH;FMTTYPE=image/jpeg:https://relnet.hu/wp-content/uploads/2024/08/ExtremePartnerSales2-min.jpg
END:VEVENT
END:VCALENDAR