BEGIN:VCALENDAR
VERSION:2.0
PRODID:-//RelNet Technológia Kft. - ECPv5.16.4//NONSGML v1.0//EN
CALSCALE:GREGORIAN
METHOD:PUBLISH
XXXXXXXXXXXXXXXXXXXXXXXXXXXXXXXXXXXXXX
XXXXXXXXXXXXXXXXXXXXXXXXXXXXXXXXX
XXXXXXXXXXXXXXXXXXXXXXXXXXXXXXXXXXXXXXXXXXXXXXXXX
BEGIN:VTIMEZONE
TZID:Europe/Budapest
BEGIN:DAYLIGHT
TZOFFSETFROM:+0100
TZOFFSETTO:+0200
TZNAME:CEST
DTSTART:20190331T010000
END:DAYLIGHT
BEGIN:STANDARD
TZOFFSETFROM:+0200
TZOFFSETTO:+0100
TZNAME:CET
DTSTART:20191027T010000
END:STANDARD
END:VTIMEZONE
BEGIN:VEVENT
DTSTART;TZID=Europe/Budapest:20190904T170000
DTEND;TZID=Europe/Budapest:20190904T180000
DTSTAMP:20260419T231505
CREATED:20190902T100927Z
LAST-MODIFIED:20190902T100927Z
UID:3489-1567616400-1567620000@relnet.hu
SUMMARY:Extreme technológiai áttekintő webinárium
DESCRIPTION:Az Extreme Networks az Aerohive felvásárlása kapcsán két exkluzív partner webináriumot hirdet a hétre. A webináriumok célja\, hogy technológiai áttekintést nyújtson az Aerohive és az Extreme megoldásáról\, valamint egy élő bemutató keretében megismertesse a mesterséges intelligenciával és gépi tanulással támogatott felhőalapú hálózati menedzsment felületet. \nExtreme technológiai áttekintő webinárium\nAz új és a meglévő Extreme és Aerohive partnerek részére ad technológiai áttekintést az Extreme hálózati és felhő megoldásairól. \n\n\nA webinárium angol nyelvű lesz. \nJelentkezzen már most! \n Extreme Technology Overview Webinar \n2019. szeptember 4. 17:00 óra (CEST) \nREGISZTRÁCIÓ
URL:https://relnet.hu/rendezveny/extreme-technologiai-attekinto-webinarium/
CATEGORIES:Extreme Networks,Viszonteladó,Webinárium
ATTACH;FMTTYPE=image/png:https://relnet.hu/wp-content/uploads/2019/09/Extreme-Webinar.png
END:VEVENT
END:VCALENDAR