BEGIN:VCALENDAR
VERSION:2.0
PRODID:-//RelNet Technológia Kft. - ECPv5.16.4//NONSGML v1.0//EN
CALSCALE:GREGORIAN
METHOD:PUBLISH
XXXXXXXXXXXXXXXXXXXXXXXXXXXXXXXXXXXXXX
XXXXXXXXXXXXXXXXXXXXXXXXXXXXXXXXX
XXXXXXXXXXXXXXXXXXXXXXXXXXXXXXXXXXXXXXXXXXXXXXXXX
BEGIN:VTIMEZONE
TZID:Europe/Budapest
BEGIN:DAYLIGHT
TZOFFSETFROM:+0100
TZOFFSETTO:+0200
TZNAME:CEST
DTSTART:20200329T010000
END:DAYLIGHT
BEGIN:STANDARD
TZOFFSETFROM:+0200
TZOFFSETTO:+0100
TZNAME:CET
DTSTART:20201025T010000
END:STANDARD
END:VTIMEZONE
BEGIN:VEVENT
DTSTART;TZID=Europe/Budapest:20200402T100000
DTEND;TZID=Europe/Budapest:20200402T110000
DTSTAMP:20260420T005411
CREATED:20200331T163038Z
LAST-MODIFIED:20200417T164101Z
UID:5438-1585821600-1585825200@relnet.hu
SUMMARY:EXTREME TECHTALKS 4.0 ON AIR
DESCRIPTION:Az Extreme Networks májusban tartotta volna a következő Tech Talks találkozóját Varsóban. Ezt az eseményt a tervezett formájában nem tudják megtartani\, de az Extreme Networks szeretné a közösséget továbbra is összefogva segíteni az ötletek és az ismeretek cseréjét\, így az eseményt online rendezik meg. \nRegisztráljon Ön is a „TechTalks 4.0 On Air” -re – az Extreme első online hálózati konferenciájára! \nA webinárium- és workshop-sorozat segítségével naprakész tudásra tehet szert az Extreme Networks legújabb és a közeljövőben megjelenő megoldásairól\, például megismerheti az ExtremeCloud IQ platformot is. Az előadások technikai témájúak és interakcióban gazdagok lesznek. \n\nAz egy órás webináriumok hetente jelennek meg\, 2020. április 2-tól május 28-ig. \nEgy regisztrációval\, ugyanazon a linken\, nyolc alkalommal. \nTechTalks 4.0 On Air\nA témák heti bontásban: \n \n\n\n\nApril 02\, 10:00 CET\nManaging Heterogenous Networks with Extreme Management Center and ExtremeControl \n\n\nApril 09\, 10:00 CET\nExtremeCloud IQ: Seeing the Full Picture \nApril 16\, 10:00 CET\nExtreme Fabric Connect: Advanced Use Cases \nApril 23\, 10:00 CET\nInterconnecting Remote Workforce with SD-WAN and ExtremeCloud IQ \nApril 30\, 10:00 CET\nSecuring Wireless Networks with AirDefense Services Platform \nMay 07\, 10:00 CET\nIP Fabric Integration with VMware vCenter \nMay 14\, 10:00 CET\nPlaying with APIs: First Steps to Automation \nMay 28\, 10:00 CET\nLeveraging The Tools: Documentation\, Dojo Learning Engine\, Career Certifications\, Case Handling\, Designing Solutions with IRIS \n\n\n\n\n \nRegisztráljon a TechTalks 4.0 On Air programra most! \nExtreme TechTalks 4.0 On Air\nWebinárium-sorozat \nREGISZTRÁCIÓ
URL:https://relnet.hu/rendezveny/extreme-techtalks-4-0-on-air/2020-04-02/
CATEGORIES:Extreme Networks,Gyártó,Oktatás,Rendezvény,Végfelhasználó,Viszonteladó,Webinárium
ATTACH;FMTTYPE=image/png:https://relnet.hu/wp-content/uploads/2020/04/TechTalk40.png
END:VEVENT
END:VCALENDAR