BEGIN:VCALENDAR
VERSION:2.0
PRODID:-//RelNet Technológia Kft. - ECPv5.16.4//NONSGML v1.0//EN
CALSCALE:GREGORIAN
METHOD:PUBLISH
XXXXXXXXXXXXXXXXXXXXXXXXXXXXXXXXXXXXXX
XXXXXXXXXXXXXXXXXXXXXXXXXXXXXXXXX
XXXXXXXXXXXXXXXXXXXXXXXXXXXXXXXXXXXXXXXXXXXXXXXXX
BEGIN:VTIMEZONE
TZID:Europe/Budapest
BEGIN:DAYLIGHT
TZOFFSETFROM:+0100
TZOFFSETTO:+0200
TZNAME:CEST
DTSTART:20200329T010000
END:DAYLIGHT
BEGIN:STANDARD
TZOFFSETFROM:+0200
TZOFFSETTO:+0100
TZNAME:CET
DTSTART:20201025T010000
END:STANDARD
END:VTIMEZONE
BEGIN:VEVENT
DTSTART;TZID=Europe/Budapest:20200409T110000
DTEND;TZID=Europe/Budapest:20200409T120000
DTSTAMP:20260420T015912
CREATED:20200407T164824Z
LAST-MODIFIED:20200407T165113Z
UID:5805-1586430000-1586433600@relnet.hu
SUMMARY:Extreme webináriumok
DESCRIPTION:Az Extreme Networks ügyfeleknek szóló webináriumokkal készül\, hogy könnyebb legyen eligazodni a távoli hozzáférés biztosításához szükséges hálózati kérdésekben valamint a vásárlói szokások miatt a kereskedelemben szükségessé vált hálózati infrastruktúra átalakításhoz szükséges teendők között. \nA webináriumok  a következők: \n\n\n\nDátum\nElőadás\n\n\n\n2020. április 9. \n11:00-12:00 \n\n\nSimple\, Secure Solutions for Remote and Extended Connectivity \n\n\nREGISZTRÁCIÓ\n\n\n\n\n\n2020. április 14. \n10:00-11:00 \n\n\nProtect the present. Prepare for the future. Join our webinar for the Retail industry! \n\n\nREGISZTRÁCIÓ\n\n\n\n\n\nJelentkezzen már most!
URL:https://relnet.hu/rendezveny/extreme-webinariumok/2020-04-09/
CATEGORIES:Extreme Networks,Gyártó,Végfelhasználó,Viszonteladó,Webinárium
ATTACH;FMTTYPE=image/png:https://relnet.hu/wp-content/uploads/2020/04/Advance.png
END:VEVENT
END:VCALENDAR