BEGIN:VCALENDAR
VERSION:2.0
PRODID:-//RelNet Technológia Kft. - ECPv5.16.4//NONSGML v1.0//EN
CALSCALE:GREGORIAN
METHOD:PUBLISH
XXXXXXXXXXXXXXXXXXXXXXXXXXXXXXXXXXXXXX
XXXXXXXXXXXXXXXXXXXXXXXXXXXXXXXXX
XXXXXXXXXXXXXXXXXXXXXXXXXXXXXXXXXXXXXXXXXXXXXXXXX
BEGIN:VTIMEZONE
TZID:Europe/Budapest
BEGIN:DAYLIGHT
TZOFFSETFROM:+0100
TZOFFSETTO:+0200
TZNAME:CEST
DTSTART:20240331T010000
END:DAYLIGHT
BEGIN:STANDARD
TZOFFSETFROM:+0200
TZOFFSETTO:+0100
TZNAME:CET
DTSTART:20241027T010000
END:STANDARD
END:VTIMEZONE
BEGIN:VEVENT
DTSTART;TZID=Europe/Budapest:20241024T150000
DTEND;TZID=Europe/Budapest:20241024T160000
DTSTAMP:20260420T135202
CREATED:20240930T084741Z
LAST-MODIFIED:20240930T084741Z
UID:35070-1729782000-1729785600@relnet.hu
SUMMARY:Fenyegetésvadászat a Progress Flowmonnal – Webinárium
DESCRIPTION:Ezen az interaktív webináriumon megtudhatja\, hogyan segíthet a Flowmon az egyéni fenyegetettségi információszolgáltatás és a magas szintű fenyegetésvadászat a biztonsági műveletek megerősítésében. \nREGISZTRÁCIÓ\n\nIdőpont: 2024. október 24. (csütörtök) | 15:00 \nA Progress Flowmon platform robusztus válaszadási képeségekkel hárítja el a fenyegetéseket\, beleértve azokat a visszamenőleges elemzési funkciókat\, amelyek hatékonyan felkutatják a sérülékenységeket. \nTovábbi témák: \n\nÉszlelési technikák alkalmazása a kritikus fenyegetésekkel szemben\, nyomozati szintű forgalomelemzés segítségével\nA felderítési és a válaszadási erőfeszítések fokozása testreszabott fenyegetettségi információk segítségével (Threat Intelligence)\nEgyéni kompromittáltsági listák létrehozása szakértői segédlettel\n\nA webinárium célja eligazítani a szakembereket abban\, hogy hogyan fokozhatják szervezetük fenyegetésfelderítési erőfeszítéseit\, és hogyan reagálhatnak proaktívabban a fenyegetésekre. Emellett élő bemutatót is kapnak a tiltólistákról és a visszamenőleges elemzésről. \nElőadó: Pavel Minarik\, VP\, Technology\, Progress
URL:https://relnet.hu/rendezveny/fenyegetesvadaszat-a-progress-flowmonnal-webinarium/
LOCATION:Virtuális rendezvény
CATEGORIES:Flowmon,Progress,Webinárium
ATTACH;FMTTYPE=image/jpeg:https://relnet.hu/wp-content/uploads/2024/09/ProgressFlowmonFenyegetettsegWebinar-min.jpg
END:VEVENT
END:VCALENDAR